BEGIN:VCALENDAR
VERSION:2.0
PRODID:-//CDL Sustainability - ECPv6.15.18//NONSGML v1.0//EN
CALSCALE:GREGORIAN
METHOD:PUBLISH
X-ORIGINAL-URL:https://cdlsustainability.com
X-WR-CALDESC:Events for CDL Sustainability
REFRESH-INTERVAL;VALUE=DURATION:PT1H
X-Robots-Tag:noindex
X-PUBLISHED-TTL:PT1H
BEGIN:VTIMEZONE
TZID:UTC
BEGIN:STANDARD
TZOFFSETFROM:+0000
TZOFFSETTO:+0000
TZNAME:UTC
DTSTART:20160101T000000
END:STANDARD
END:VTIMEZONE
BEGIN:VEVENT
DTSTART;TZID=UTC:20170605T080000
DTEND;TZID=UTC:20170605T170000
DTSTAMP:20260422T191218
CREATED:20170626T213014Z
LAST-MODIFIED:20190523T180154Z
UID:668-1496649600-1496682000@cdlsustainability.com
SUMMARY:Official Opening of the SSA
DESCRIPTION:
URL:https://cdlsustainability.com/event/official-opening-ssa/
CATEGORIES:Happenings
END:VEVENT
END:VCALENDAR