BEGIN:VCALENDAR
VERSION:2.0
PRODID:-//CDL Sustainability - ECPv6.15.18//NONSGML v1.0//EN
CALSCALE:GREGORIAN
METHOD:PUBLISH
X-WR-CALNAME:CDL Sustainability
X-ORIGINAL-URL:https://cdlsustainability.com
X-WR-CALDESC:Events for CDL Sustainability
REFRESH-INTERVAL;VALUE=DURATION:PT1H
X-Robots-Tag:noindex
X-PUBLISHED-TTL:PT1H
BEGIN:VTIMEZONE
TZID:Asia/Singapore
BEGIN:STANDARD
TZOFFSETFROM:+0800
TZOFFSETTO:+0800
TZNAME:+08
DTSTART:20170101T000000
END:STANDARD
END:VTIMEZONE
BEGIN:VEVENT
DTSTART;TZID=Asia/Singapore:20180601T080000
DTEND;TZID=Asia/Singapore:20180601T170000
DTSTAMP:20260421T080938
CREATED:20180622T092509Z
LAST-MODIFIED:20190523T180818Z
UID:2972-1527840000-1527872400@cdlsustainability.com
SUMMARY:UNLEASH Innovation Lab – Climate Action Track Talents Visit to SSA
DESCRIPTION:
URL:https://cdlsustainability.com/event/unleash-innovation-lab-climate-action-track-talents-visit-ssa/
CATEGORIES:Happenings
END:VEVENT
END:VCALENDAR