BEGIN:VCALENDAR
VERSION:2.0
PRODID:-//CDL Sustainability - ECPv6.15.18//NONSGML v1.0//EN
CALSCALE:GREGORIAN
METHOD:PUBLISH
X-WR-CALNAME:CDL Sustainability
X-ORIGINAL-URL:https://cdlsustainability.com
X-WR-CALDESC:Events for CDL Sustainability
REFRESH-INTERVAL;VALUE=DURATION:PT1H
X-Robots-Tag:noindex
X-PUBLISHED-TTL:PT1H
BEGIN:VTIMEZONE
TZID:Asia/Singapore
BEGIN:STANDARD
TZOFFSETFROM:+0800
TZOFFSETTO:+0800
TZNAME:+08
DTSTART:20170101T000000
END:STANDARD
END:VTIMEZONE
BEGIN:VEVENT
DTSTART;VALUE=DATE:20180623
DTEND;VALUE=DATE:20180624
DTSTAMP:20260421T113803
CREATED:20181006T133653Z
LAST-MODIFIED:20190523T180846Z
UID:4870-1529712000-1529798399@cdlsustainability.com
SUMMARY:LepakinSG ‘Sea our Shores’ Clay Modelling Workshop on Fun with Marine Life
DESCRIPTION:
URL:https://cdlsustainability.com/event/lepakinsg-sea-our-shores-clay-modelling-workshop-on-fun-with-marine-life/
CATEGORIES:Happenings
END:VEVENT
END:VCALENDAR