BEGIN:VCALENDAR
VERSION:2.0
PRODID:-//CDL Sustainability - ECPv6.15.18//NONSGML v1.0//EN
CALSCALE:GREGORIAN
METHOD:PUBLISH
X-ORIGINAL-URL:https://cdlsustainability.com
X-WR-CALDESC:Events for CDL Sustainability
REFRESH-INTERVAL;VALUE=DURATION:PT1H
X-Robots-Tag:noindex
X-PUBLISHED-TTL:PT1H
BEGIN:VTIMEZONE
TZID:Asia/Singapore
BEGIN:STANDARD
TZOFFSETFROM:+0800
TZOFFSETTO:+0800
TZNAME:+08
DTSTART:20170101T000000
END:STANDARD
END:VTIMEZONE
BEGIN:VEVENT
DTSTART;TZID=Asia/Singapore:20180625T080000
DTEND;TZID=Asia/Singapore:20180626T170000
DTSTAMP:20260421T140219
CREATED:20181006T134033Z
LAST-MODIFIED:20190523T180851Z
UID:3295-1529913600-1530032400@cdlsustainability.com
SUMMARY:Northland Secondary School’s Eco Knowledge Quest and Photo Hunt Challenge
DESCRIPTION:
URL:https://cdlsustainability.com/event/northland-secondary-schools-eco-knowledge-quest-photo-hunt-challenge/
CATEGORIES:Happenings
END:VEVENT
END:VCALENDAR