BEGIN:VCALENDAR
VERSION:2.0
PRODID:-//CDL Sustainability - ECPv6.15.18//NONSGML v1.0//EN
CALSCALE:GREGORIAN
METHOD:PUBLISH
X-ORIGINAL-URL:https://cdlsustainability.com
X-WR-CALDESC:Events for CDL Sustainability
REFRESH-INTERVAL;VALUE=DURATION:PT1H
X-Robots-Tag:noindex
X-PUBLISHED-TTL:PT1H
BEGIN:VTIMEZONE
TZID:Asia/Singapore
BEGIN:STANDARD
TZOFFSETFROM:+0800
TZOFFSETTO:+0800
TZNAME:+08
DTSTART:20170101T000000
END:STANDARD
END:VTIMEZONE
BEGIN:VEVENT
DTSTART;VALUE=DATE:20180817
DTEND;VALUE=DATE:20180818
DTSTAMP:20260424T074132
CREATED:20181006T142401Z
LAST-MODIFIED:20190523T180951Z
UID:3326-1534464000-1534550399@cdlsustainability.com
SUMMARY:CDL-GCNS Young SDG Leaders Award
DESCRIPTION:
URL:https://cdlsustainability.com/event/cdl-gcns-young-sdg-leaders-award/
CATEGORIES:Happenings
END:VEVENT
END:VCALENDAR