BEGIN:VCALENDAR
VERSION:2.0
PRODID:-//CDL Sustainability - ECPv6.15.18//NONSGML v1.0//EN
CALSCALE:GREGORIAN
METHOD:PUBLISH
X-WR-CALNAME:CDL Sustainability
X-ORIGINAL-URL:https://cdlsustainability.com
X-WR-CALDESC:Events for CDL Sustainability
REFRESH-INTERVAL;VALUE=DURATION:PT1H
X-Robots-Tag:noindex
X-PUBLISHED-TTL:PT1H
BEGIN:VTIMEZONE
TZID:Asia/Singapore
BEGIN:STANDARD
TZOFFSETFROM:+0800
TZOFFSETTO:+0800
TZNAME:+08
DTSTART:20170101T000000
END:STANDARD
END:VTIMEZONE
BEGIN:VEVENT
DTSTART;VALUE=DATE:20180922
DTEND;VALUE=DATE:20180923
DTSTAMP:20260425T110403
CREATED:20181122T035036Z
LAST-MODIFIED:20190523T181040Z
UID:3513-1537574400-1537660799@cdlsustainability.com
SUMMARY:Temasek Ecosperity\, Futures-Thinking Workshop
DESCRIPTION:
URL:https://cdlsustainability.com/event/temasek-ecosperity-futures-thinking-workshop/
CATEGORIES:Happenings
END:VEVENT
END:VCALENDAR