BEGIN:VCALENDAR
VERSION:2.0
PRODID:-//CDL Sustainability - ECPv6.15.18//NONSGML v1.0//EN
CALSCALE:GREGORIAN
METHOD:PUBLISH
X-ORIGINAL-URL:https://cdlsustainability.com
X-WR-CALDESC:Events for CDL Sustainability
REFRESH-INTERVAL;VALUE=DURATION:PT1H
X-Robots-Tag:noindex
X-PUBLISHED-TTL:PT1H
BEGIN:VTIMEZONE
TZID:Asia/Singapore
BEGIN:STANDARD
TZOFFSETFROM:+0800
TZOFFSETTO:+0800
TZNAME:+08
DTSTART:20220101T000000
END:STANDARD
END:VTIMEZONE
BEGIN:VEVENT
DTSTART;VALUE=DATE:20230314
DTEND;VALUE=DATE:20230315
DTSTAMP:20260421T211941
CREATED:20230314T095523Z
LAST-MODIFIED:20230314T095547Z
UID:15454-1678752000-1678838399@cdlsustainability.com
SUMMARY:AWiCS International Women's Day 2023: Building Towards a Sustainable Future
DESCRIPTION:
URL:https://cdlsustainability.com/event/awics-international-womens-day-2023-building-towards-a-sustainable-future/
CATEGORIES:Happenings
END:VEVENT
END:VCALENDAR