BEGIN:VCALENDAR
VERSION:2.0
PRODID:-//CDL Sustainability - ECPv6.15.18//NONSGML v1.0//EN
CALSCALE:GREGORIAN
METHOD:PUBLISH
X-WR-CALNAME:CDL Sustainability
X-ORIGINAL-URL:https://cdlsustainability.com
X-WR-CALDESC:Events for CDL Sustainability
REFRESH-INTERVAL;VALUE=DURATION:PT1H
X-Robots-Tag:noindex
X-PUBLISHED-TTL:PT1H
BEGIN:VTIMEZONE
TZID:Asia/Singapore
BEGIN:STANDARD
TZOFFSETFROM:+0800
TZOFFSETTO:+0800
TZNAME:+08
DTSTART:20220101T000000
END:STANDARD
END:VTIMEZONE
BEGIN:VEVENT
DTSTART;VALUE=DATE:20230329
DTEND;VALUE=DATE:20230330
DTSTAMP:20260423T073144
CREATED:20230329T032705Z
LAST-MODIFIED:20230921T033153Z
UID:17603-1680048000-1680134399@cdlsustainability.com
SUMMARY:Singapore Environment Council: Putting Sustainability into Business Practice
DESCRIPTION:
URL:https://cdlsustainability.com/event/singapore-environment-council-putting-sustainability-into-business-practice-2/
CATEGORIES:Happenings
END:VEVENT
BEGIN:VEVENT
DTSTART;VALUE=DATE:20230329
DTEND;VALUE=DATE:20230330
DTSTAMP:20260423T073144
CREATED:20230329T040727Z
LAST-MODIFIED:20230403T084835Z
UID:17023-1680048000-1680134399@cdlsustainability.com
SUMMARY:CDL EHS 5-Star Seminar
DESCRIPTION:
URL:https://cdlsustainability.com/event/cdl-ehs-5-star-seminar-2/
CATEGORIES:Happenings
END:VEVENT
END:VCALENDAR