BEGIN:VCALENDAR
VERSION:2.0
PRODID:-//CDL Sustainability - ECPv6.15.18//NONSGML v1.0//EN
CALSCALE:GREGORIAN
METHOD:PUBLISH
X-WR-CALNAME:CDL Sustainability
X-ORIGINAL-URL:https://cdlsustainability.com
X-WR-CALDESC:Events for CDL Sustainability
REFRESH-INTERVAL;VALUE=DURATION:PT1H
X-Robots-Tag:noindex
X-PUBLISHED-TTL:PT1H
BEGIN:VTIMEZONE
TZID:Asia/Singapore
BEGIN:STANDARD
TZOFFSETFROM:+0800
TZOFFSETTO:+0800
TZNAME:+08
DTSTART:20220101T000000
END:STANDARD
END:VTIMEZONE
BEGIN:VEVENT
DTSTART;TZID=Asia/Singapore:20230331T080000
DTEND;TZID=Asia/Singapore:20230331T140000
DTSTAMP:20260421T021356
CREATED:20230410T042353Z
LAST-MODIFIED:20230410T062054Z
UID:17031-1680249600-1680271200@cdlsustainability.com
SUMMARY:NTU SAIL Corporate Partners Roundtable
DESCRIPTION:On 31 March\, CDL hosted Nanyang Technological University’s (NTU) inaugural Singapore Agri-food Innovation Lab (SAIL) Corporate Partners Roundtable on Sustainability which aims to bring together business and sustainability leaders to ideate on key sustainability issues facing the agri-food industry. The event highlight was an all-women panel moderated by NTU’s Professor Wai Fong Boh\, comprising of sustainability experts and thought leaders including Ms Charlene Loo from BSI\, Ms Irene Fischbach from Roundtable on Sustainable Palm Oil (RSPO)\, Ms Lucy Xia from OCBC Bank\, and Ms Sabrina Parker from The Carbon Trust. It discussed topics ranging from decarbonisation and supply chain traceability to multi-stakeholder partnerships and sustainable finance.
URL:https://cdlsustainability.com/event/sail-corporate-partners-roundtable/
CATEGORIES:Happenings
END:VEVENT
END:VCALENDAR