BEGIN:VCALENDAR
VERSION:2.0
PRODID:-//CDL Sustainability - ECPv6.15.18//NONSGML v1.0//EN
CALSCALE:GREGORIAN
METHOD:PUBLISH
X-ORIGINAL-URL:https://cdlsustainability.com
X-WR-CALDESC:Events for CDL Sustainability
REFRESH-INTERVAL;VALUE=DURATION:PT1H
X-Robots-Tag:noindex
X-PUBLISHED-TTL:PT1H
BEGIN:VTIMEZONE
TZID:Asia/Singapore
BEGIN:STANDARD
TZOFFSETFROM:+0800
TZOFFSETTO:+0800
TZNAME:+08
DTSTART:20230101T000000
END:STANDARD
END:VTIMEZONE
BEGIN:VEVENT
DTSTART;TZID=Asia/Singapore:20240820T080000
DTEND;TZID=Asia/Singapore:20240820T170000
DTSTAMP:20260420T022825
CREATED:20240622T031132Z
LAST-MODIFIED:20240820T031842Z
UID:19599-1724140800-1724173200@cdlsustainability.com
SUMMARY:Singapore Youth for Climate Action Workshop Series 5: “What in the world are… NDCs?”
DESCRIPTION:
URL:https://cdlsustainability.com/event/singapore-youth-for-climate-action-workshop-series-5-what-in-the-world-are-ndcs/
CATEGORIES:Happenings
END:VEVENT
BEGIN:VEVENT
DTSTART;TZID=Asia/Singapore:20240820T080000
DTEND;TZID=Asia/Singapore:20240820T170000
DTSTAMP:20260420T022825
CREATED:20240715T031908Z
LAST-MODIFIED:20240820T033015Z
UID:19603-1724140800-1724173200@cdlsustainability.com
SUMMARY:CDL SME Supplier Decarbonisation Programme – Scope 3 Reporting
DESCRIPTION:
URL:https://cdlsustainability.com/event/cdl-sme-supplier-decarbonisation-programme-scope-3-reporting/
CATEGORIES:Happenings
END:VEVENT
BEGIN:VEVENT
DTSTART;TZID=Asia/Singapore:20240820T080000
DTEND;TZID=Asia/Singapore:20240820T170000
DTSTAMP:20260420T022825
CREATED:20240716T032425Z
LAST-MODIFIED:20240820T032710Z
UID:19606-1724140800-1724173200@cdlsustainability.com
SUMMARY:NUS Enterprise Summer Programme Learning Journey
DESCRIPTION:
URL:https://cdlsustainability.com/event/nus-enterprise-summer-programme-learning-journey/
CATEGORIES:Happenings
END:VEVENT
BEGIN:VEVENT
DTSTART;TZID=Asia/Singapore:20240820T080000
DTEND;TZID=Asia/Singapore:20240820T170000
DTSTAMP:20260420T022825
CREATED:20240727T033508Z
LAST-MODIFIED:20240826T033144Z
UID:19610-1724140800-1724173200@cdlsustainability.com
SUMMARY:CDL-GCNS Young SDG Leaders Award Final Judging
DESCRIPTION:
URL:https://cdlsustainability.com/event/cdl-gcns-young-sdg-leaders-award-final-judging-3/
CATEGORIES:Happenings
END:VEVENT
BEGIN:VEVENT
DTSTART;TZID=Asia/Singapore:20240820T080000
DTEND;TZID=Asia/Singapore:20240820T170000
DTSTAMP:20260420T022825
CREATED:20240819T033855Z
LAST-MODIFIED:20240820T034851Z
UID:19614-1724140800-1724173200@cdlsustainability.com
SUMMARY:CDL Sustainability Committee Kick-off Meeting
DESCRIPTION:
URL:https://cdlsustainability.com/event/cdl-sustainability-committee-kick-off-meeting/
CATEGORIES:Happenings
END:VEVENT
END:VCALENDAR