BEGIN:VCALENDAR
VERSION:2.0
PRODID:-//CDL Sustainability - ECPv6.15.18//NONSGML v1.0//EN
CALSCALE:GREGORIAN
METHOD:PUBLISH
X-WR-CALNAME:CDL Sustainability
X-ORIGINAL-URL:https://cdlsustainability.com
X-WR-CALDESC:Events for CDL Sustainability
REFRESH-INTERVAL;VALUE=DURATION:PT1H
X-Robots-Tag:noindex
X-PUBLISHED-TTL:PT1H
BEGIN:VTIMEZONE
TZID:Asia/Singapore
BEGIN:STANDARD
TZOFFSETFROM:+0800
TZOFFSETTO:+0800
TZNAME:+08
DTSTART:20230101T000000
END:STANDARD
END:VTIMEZONE
BEGIN:VEVENT
DTSTART;TZID=Asia/Singapore:20240902T080000
DTEND;TZID=Asia/Singapore:20240902T170000
DTSTAMP:20260421T065853
CREATED:20240807T075739Z
LAST-MODIFIED:20240902T075949Z
UID:20059-1725264000-1725296400@cdlsustainability.com
SUMMARY:GCNS Carbon Accounting and GHG Management
DESCRIPTION:
URL:https://cdlsustainability.com/event/gcns-carbon-accounting-and-ghg-management-5/
CATEGORIES:Happenings
END:VEVENT
BEGIN:VEVENT
DTSTART;TZID=Asia/Singapore:20240902T080000
DTEND;TZID=Asia/Singapore:20240902T170000
DTSTAMP:20260421T065853
CREATED:20240816T080113Z
LAST-MODIFIED:20241001T074328Z
UID:20062-1725264000-1725296400@cdlsustainability.com
SUMMARY:GCNS Sustainability and Carbon Management Workshop
DESCRIPTION:
URL:https://cdlsustainability.com/event/sustainability-and-carbon-management-workshop/
CATEGORIES:Happenings
END:VEVENT
BEGIN:VEVENT
DTSTART;TZID=Asia/Singapore:20240902T080000
DTEND;TZID=Asia/Singapore:20240902T170000
DTSTAMP:20260421T065853
CREATED:20240817T070939Z
LAST-MODIFIED:20240902T071405Z
UID:20010-1725264000-1725296400@cdlsustainability.com
SUMMARY:SUSS Living Soil Asia Fieldwork Research Sharing
DESCRIPTION:
URL:https://cdlsustainability.com/event/suss-living-soil-asia-fieldwork-research-sharing/
CATEGORIES:Happenings
END:VEVENT
BEGIN:VEVENT
DTSTART;TZID=Asia/Singapore:20240902T080000
DTEND;TZID=Asia/Singapore:20240902T170000
DTSTAMP:20260421T065853
CREATED:20240822T071650Z
LAST-MODIFIED:20240902T072448Z
UID:20025-1725264000-1725296400@cdlsustainability.com
SUMMARY:B Lab Singapore & Vero: 50 Shades of Green(washing)
DESCRIPTION:
URL:https://cdlsustainability.com/event/b-lab-singapore-vero-50-shades-of-greenwashing/
CATEGORIES:Happenings
END:VEVENT
BEGIN:VEVENT
DTSTART;TZID=Asia/Singapore:20240902T080000
DTEND;TZID=Asia/Singapore:20240902T170000
DTSTAMP:20260421T065853
CREATED:20240823T074827Z
LAST-MODIFIED:20240902T075145Z
UID:20050-1725264000-1725296400@cdlsustainability.com
SUMMARY:SGTech Sustainability Guided Programme Free Information Session #9
DESCRIPTION:
URL:https://cdlsustainability.com/event/sgtech-sustainability-guided-programme-free-information-session-9/
CATEGORIES:Happenings
END:VEVENT
BEGIN:VEVENT
DTSTART;TZID=Asia/Singapore:20240902T080000
DTEND;TZID=Asia/Singapore:20240902T170000
DTSTAMP:20260421T065853
CREATED:20240824T074059Z
LAST-MODIFIED:20240902T074431Z
UID:20039-1725264000-1725296400@cdlsustainability.com
SUMMARY:DECK Photography Art Centre: Photographing with Intention
DESCRIPTION:
URL:https://cdlsustainability.com/event/deck-photography-art-centre-photographing-with-intention/
CATEGORIES:Happenings
END:VEVENT
BEGIN:VEVENT
DTSTART;TZID=Asia/Singapore:20240902T080000
DTEND;TZID=Asia/Singapore:20240902T170000
DTSTAMP:20260421T065853
CREATED:20240825T073616Z
LAST-MODIFIED:20240902T075441Z
UID:20036-1725264000-1725296400@cdlsustainability.com
SUMMARY:WWF #WeGotThis Youth Dialogue
DESCRIPTION:
URL:https://cdlsustainability.com/event/wwf-wegotthis-youth-dialogue/
CATEGORIES:Happenings
END:VEVENT
BEGIN:VEVENT
DTSTART;TZID=Asia/Singapore:20240902T080000
DTEND;TZID=Asia/Singapore:20240902T170000
DTSTAMP:20260421T065853
CREATED:20240829T072620Z
LAST-MODIFIED:20240902T073259Z
UID:20030-1725264000-1725296400@cdlsustainability.com
SUMMARY:Zuno Carbon: Navigating ESG Disclosures – Perspectives from Key Industry Leaders
DESCRIPTION:
URL:https://cdlsustainability.com/event/zuno-carbon-navigating-esg-disclosures-perspectives-from-key-industry-leaders/
CATEGORIES:Happenings
END:VEVENT
BEGIN:VEVENT
DTSTART;TZID=Asia/Singapore:20240902T080000
DTEND;TZID=Asia/Singapore:20240902T170000
DTSTAMP:20260421T065853
CREATED:20240830T065941Z
LAST-MODIFIED:20240902T070812Z
UID:19994-1725264000-1725296400@cdlsustainability.com
SUMMARY:One Young World Send-off
DESCRIPTION:
URL:https://cdlsustainability.com/event/one-young-world-send-off/
CATEGORIES:Happenings
END:VEVENT
END:VCALENDAR