BEGIN:VCALENDAR
VERSION:2.0
PRODID:-//CDL Sustainability - ECPv6.15.18//NONSGML v1.0//EN
CALSCALE:GREGORIAN
METHOD:PUBLISH
X-ORIGINAL-URL:https://cdlsustainability.com
X-WR-CALDESC:Events for CDL Sustainability
REFRESH-INTERVAL;VALUE=DURATION:PT1H
X-Robots-Tag:noindex
X-PUBLISHED-TTL:PT1H
BEGIN:VTIMEZONE
TZID:Asia/Singapore
BEGIN:STANDARD
TZOFFSETFROM:+0800
TZOFFSETTO:+0800
TZNAME:+08
DTSTART:20230101T000000
END:STANDARD
END:VTIMEZONE
BEGIN:VEVENT
DTSTART;TZID=Asia/Singapore:20241217T080000
DTEND;TZID=Asia/Singapore:20241217T170000
DTSTAMP:20260421T074213
CREATED:20241022T101926Z
LAST-MODIFIED:20241217T102058Z
UID:20618-1734422400-1734454800@cdlsustainability.com
SUMMARY:GCNS Carbon Accounting and GHG Management with Fairprice Group
DESCRIPTION:
URL:https://cdlsustainability.com/event/gcns-carbon-accounting-and-ghg-management-with-fairprice-group/
CATEGORIES:Happenings
END:VEVENT
BEGIN:VEVENT
DTSTART;TZID=Asia/Singapore:20241217T080000
DTEND;TZID=Asia/Singapore:20241217T170000
DTSTAMP:20260421T074213
CREATED:20241125T100441Z
LAST-MODIFIED:20241217T100659Z
UID:20612-1734422400-1734454800@cdlsustainability.com
SUMMARY:GCNS Digital CERT Onboarding Session
DESCRIPTION:
URL:https://cdlsustainability.com/event/gcns-digital-cert-onboarding-session/
CATEGORIES:Happenings
END:VEVENT
BEGIN:VEVENT
DTSTART;TZID=Asia/Singapore:20241217T080000
DTEND;TZID=Asia/Singapore:20241217T170000
DTSTAMP:20260421T074213
CREATED:20241127T075513Z
LAST-MODIFIED:20241217T080044Z
UID:20606-1734422400-1734454800@cdlsustainability.com
SUMMARY:HER Planet Earth: Gobi Rising Film Screening
DESCRIPTION:
URL:https://cdlsustainability.com/event/her-planet-earth-gobi-rising-film-screening/
CATEGORIES:Happenings
END:VEVENT
BEGIN:VEVENT
DTSTART;TZID=Asia/Singapore:20241217T080000
DTEND;TZID=Asia/Singapore:20241217T170000
DTSTAMP:20260421T074213
CREATED:20241128T094959Z
LAST-MODIFIED:20241217T095942Z
UID:20609-1734422400-1734454800@cdlsustainability.com
SUMMARY:WWF Townhall
DESCRIPTION:
URL:https://cdlsustainability.com/event/wwf-townhall/
CATEGORIES:Happenings
END:VEVENT
BEGIN:VEVENT
DTSTART;TZID=Asia/Singapore:20241217T080000
DTEND;TZID=Asia/Singapore:20241217T170000
DTSTAMP:20260421T074213
CREATED:20241128T100737Z
LAST-MODIFIED:20241217T101526Z
UID:20615-1734422400-1734454800@cdlsustainability.com
SUMMARY:Forum for the Future: The Future of Sustainability in Southeast Asia
DESCRIPTION:
URL:https://cdlsustainability.com/event/forum-for-the-future-the-future-of-sustainability-in-southeast-asia/
CATEGORIES:Happenings
END:VEVENT
BEGIN:VEVENT
DTSTART;TZID=Asia/Singapore:20241217T080000
DTEND;TZID=Asia/Singapore:20241217T170000
DTSTAMP:20260421T074213
CREATED:20241212T034413Z
LAST-MODIFIED:20241217T034818Z
UID:20601-1734422400-1734454800@cdlsustainability.com
SUMMARY:CDL-WBCSD Joint Knowledge Sharing Session
DESCRIPTION:
URL:https://cdlsustainability.com/event/cdl-wbcsd-joint-knowledge-sharing-session/
CATEGORIES:Happenings
END:VEVENT
END:VCALENDAR