BEGIN:VCALENDAR
VERSION:2.0
PRODID:-//CDL Sustainability - ECPv6.15.18//NONSGML v1.0//EN
CALSCALE:GREGORIAN
METHOD:PUBLISH
X-ORIGINAL-URL:https://cdlsustainability.com
X-WR-CALDESC:Events for CDL Sustainability
REFRESH-INTERVAL;VALUE=DURATION:PT1H
X-Robots-Tag:noindex
X-PUBLISHED-TTL:PT1H
BEGIN:VTIMEZONE
TZID:Asia/Singapore
BEGIN:STANDARD
TZOFFSETFROM:+0800
TZOFFSETTO:+0800
TZNAME:+08
DTSTART:20240101T000000
END:STANDARD
END:VTIMEZONE
BEGIN:VEVENT
DTSTART;TZID=Asia/Singapore:20250307T080000
DTEND;TZID=Asia/Singapore:20250307T170000
DTSTAMP:20260422T003823
CREATED:20250301T031956Z
LAST-MODIFIED:20250311T041350Z
UID:21180-1741334400-1741366800@cdlsustainability.com
SUMMARY:Silver Ribbon Singapore International Women’s Day Mental Health Event: Up Close and Personal With…
DESCRIPTION:
URL:https://cdlsustainability.com/event/silver-ribbon-singapore-international-womens-day-mental-health-event-up-close-and-personal-with/
CATEGORIES:Happenings
END:VEVENT
BEGIN:VEVENT
DTSTART;TZID=Asia/Singapore:20250307T080000
DTEND;TZID=Asia/Singapore:20250307T170000
DTSTAMP:20260422T003823
CREATED:20250306T032701Z
LAST-MODIFIED:20250311T030418Z
UID:21183-1741334400-1741366800@cdlsustainability.com
SUMMARY:CDL Celebrates International Women’s Day 2025 – Creating an Exciting & Purposeful Career After Retirement: A Dialogue with Lim Sau Hoong
DESCRIPTION:
URL:https://cdlsustainability.com/event/creating-an-exciting-purposeful-career-after-retirement-a-dialogue-with-lim-sau-hoong/
CATEGORIES:Happenings
END:VEVENT
END:VCALENDAR