BEGIN:VCALENDAR
VERSION:2.0
PRODID:-//CDL Sustainability - ECPv6.15.18//NONSGML v1.0//EN
CALSCALE:GREGORIAN
METHOD:PUBLISH
X-ORIGINAL-URL:https://cdlsustainability.com
X-WR-CALDESC:Events for CDL Sustainability
REFRESH-INTERVAL;VALUE=DURATION:PT1H
X-Robots-Tag:noindex
X-PUBLISHED-TTL:PT1H
BEGIN:VTIMEZONE
TZID:Asia/Singapore
BEGIN:STANDARD
TZOFFSETFROM:+0800
TZOFFSETTO:+0800
TZNAME:+08
DTSTART:20240101T000000
END:STANDARD
END:VTIMEZONE
BEGIN:VEVENT
DTSTART;TZID=Asia/Singapore:20250326T080000
DTEND;TZID=Asia/Singapore:20250326T170000
DTSTAMP:20260422T113118
CREATED:20240910T045947Z
LAST-MODIFIED:20250326T051044Z
UID:21445-1742976000-1743008400@cdlsustainability.com
SUMMARY:CDL SME Supplier Decarbonisation Programme (Batch 1)
DESCRIPTION:
URL:https://cdlsustainability.com/event/cdl-sme-supplier-decarbonisation-programme/
CATEGORIES:Happenings
END:VEVENT
BEGIN:VEVENT
DTSTART;TZID=Asia/Singapore:20250326T080000
DTEND;TZID=Asia/Singapore:20250326T170000
DTSTAMP:20260422T113118
CREATED:20241023T051124Z
LAST-MODIFIED:20250326T051909Z
UID:21448-1742976000-1743008400@cdlsustainability.com
SUMMARY:CDL SME Supplier Decarbonisation Programme (Batch 2)
DESCRIPTION:
URL:https://cdlsustainability.com/event/cdl-sme-supplier-decarbonisation-programme-batch-2/
CATEGORIES:Happenings
END:VEVENT
BEGIN:VEVENT
DTSTART;TZID=Asia/Singapore:20250326T080000
DTEND;TZID=Asia/Singapore:20250326T170000
DTSTAMP:20260422T113118
CREATED:20250222T032552Z
LAST-MODIFIED:20250326T041010Z
UID:21416-1742976000-1743008400@cdlsustainability.com
SUMMARY:Youth Expedition Project Leaders’ Training Course
DESCRIPTION:
URL:https://cdlsustainability.com/event/youth-expedition-project-leaders-training-course-15/
CATEGORIES:Happenings
END:VEVENT
BEGIN:VEVENT
DTSTART;TZID=Asia/Singapore:20250326T080000
DTEND;TZID=Asia/Singapore:20250326T170000
DTSTAMP:20260422T113118
CREATED:20250225T043653Z
LAST-MODIFIED:20250326T044040Z
UID:21442-1742976000-1743008400@cdlsustainability.com
SUMMARY:GCNS Foundations in Corporate Sustainability
DESCRIPTION:
URL:https://cdlsustainability.com/event/gcns-foundations-in-corporate-sustainability-4/
CATEGORIES:Happenings
END:VEVENT
BEGIN:VEVENT
DTSTART;TZID=Asia/Singapore:20250326T080000
DTEND;TZID=Asia/Singapore:20250326T170000
DTSTAMP:20260422T113118
CREATED:20250315T041029Z
LAST-MODIFIED:20250326T042641Z
UID:21437-1742976000-1743008400@cdlsustainability.com
SUMMARY:Youth Expedition Project Leaders’ Training Course
DESCRIPTION:
URL:https://cdlsustainability.com/event/youth-expedition-project-leaders-training-course-16/
CATEGORIES:Happenings
END:VEVENT
END:VCALENDAR