BEGIN:VCALENDAR
VERSION:2.0
PRODID:-//CDL Sustainability - ECPv6.15.18//NONSGML v1.0//EN
CALSCALE:GREGORIAN
METHOD:PUBLISH
X-WR-CALNAME:CDL Sustainability
X-ORIGINAL-URL:https://cdlsustainability.com
X-WR-CALDESC:Events for CDL Sustainability
REFRESH-INTERVAL;VALUE=DURATION:PT1H
X-Robots-Tag:noindex
X-PUBLISHED-TTL:PT1H
BEGIN:VTIMEZONE
TZID:Asia/Singapore
BEGIN:STANDARD
TZOFFSETFROM:+0800
TZOFFSETTO:+0800
TZNAME:+08
DTSTART:20240101T000000
END:STANDARD
END:VTIMEZONE
BEGIN:VEVENT
DTSTART;TZID=Asia/Singapore:20250506T080000
DTEND;TZID=Asia/Singapore:20250506T170000
DTSTAMP:20260421T084112
CREATED:20250411T034338Z
LAST-MODIFIED:20250506T034739Z
UID:22655-1746518400-1746550800@cdlsustainability.com
SUMMARY:SGBC Industry Course: Corporate Carbon Footprint for Climate-Related Disclosures
DESCRIPTION:
URL:https://cdlsustainability.com/event/sgbc-industry-course-corporate-carbon-footprint-for-climate-related-disclosures/
CATEGORIES:Happenings
END:VEVENT
BEGIN:VEVENT
DTSTART;TZID=Asia/Singapore:20250506T080000
DTEND;TZID=Asia/Singapore:20250506T170000
DTSTAMP:20260421T084112
CREATED:20250417T034808Z
LAST-MODIFIED:20250506T035025Z
UID:22658-1746518400-1746550800@cdlsustainability.com
SUMMARY:SGBC Course: LEED Essentials – Overview of LEED Rating Systems
DESCRIPTION:
URL:https://cdlsustainability.com/event/sgbc-course-leed-essentials-overview-of-leed-rating-systems/
CATEGORIES:Happenings
END:VEVENT
BEGIN:VEVENT
DTSTART;TZID=Asia/Singapore:20250506T080000
DTEND;TZID=Asia/Singapore:20250506T170000
DTSTAMP:20260421T084112
CREATED:20250423T035038Z
LAST-MODIFIED:20250506T035307Z
UID:22661-1746518400-1746550800@cdlsustainability.com
SUMMARY:SGBC Industry Course Hands-On Training with the Building Embodied Carbon Calculator (BECC)
DESCRIPTION:
URL:https://cdlsustainability.com/event/sgbc-industry-course-hands-on-training-with-the-building-embodied-carbon-calculator-becc/
CATEGORIES:Happenings
END:VEVENT
BEGIN:VEVENT
DTSTART;TZID=Asia/Singapore:20250506T080000
DTEND;TZID=Asia/Singapore:20250506T170000
DTSTAMP:20260421T084112
CREATED:20250423T035406Z
LAST-MODIFIED:20250506T035817Z
UID:22664-1746518400-1746550800@cdlsustainability.com
SUMMARY:GCNS Members’ Sharing Event
DESCRIPTION:
URL:https://cdlsustainability.com/event/gcns-members-sharing-event/
CATEGORIES:Happenings
END:VEVENT
BEGIN:VEVENT
DTSTART;TZID=Asia/Singapore:20250506T080000
DTEND;TZID=Asia/Singapore:20250506T170000
DTSTAMP:20260421T084112
CREATED:20250423T035844Z
LAST-MODIFIED:20250506T040420Z
UID:22667-1746518400-1746550800@cdlsustainability.com
SUMMARY:The Transmutation Principle: ESG Leadership – Climate-Proofing Your Business
DESCRIPTION:
URL:https://cdlsustainability.com/event/the-transmutation-principle-esg-leadership-climate-proofing-your-business/
CATEGORIES:Happenings
END:VEVENT
END:VCALENDAR