BEGIN:VCALENDAR
VERSION:2.0
PRODID:-//CDL Sustainability - ECPv6.15.18//NONSGML v1.0//EN
CALSCALE:GREGORIAN
METHOD:PUBLISH
X-ORIGINAL-URL:https://cdlsustainability.com
X-WR-CALDESC:Events for CDL Sustainability
REFRESH-INTERVAL;VALUE=DURATION:PT1H
X-Robots-Tag:noindex
X-PUBLISHED-TTL:PT1H
BEGIN:VTIMEZONE
TZID:Asia/Singapore
BEGIN:STANDARD
TZOFFSETFROM:+0800
TZOFFSETTO:+0800
TZNAME:+08
DTSTART:20240101T000000
END:STANDARD
END:VTIMEZONE
BEGIN:VEVENT
DTSTART;TZID=Asia/Singapore:20250509T080000
DTEND;TZID=Asia/Singapore:20250509T170000
DTSTAMP:20260420T140912
CREATED:20250508T054422Z
LAST-MODIFIED:20250509T055043Z
UID:22670-1746777600-1746810000@cdlsustainability.com
SUMMARY:TNFD-CDL-SSFA C-Suite Networking Event: Taking the Lead to Accelerate a Nature-Positive Future
DESCRIPTION:
URL:https://cdlsustainability.com/event/tnfd-cdl-ssfa-c-suite-networking-event-taking-the-lead-to-accelerate-a-nature-positive-future/
CATEGORIES:Happenings
END:VEVENT
END:VCALENDAR