BEGIN:VCALENDAR
VERSION:2.0
PRODID:-//CDL Sustainability - ECPv6.15.18//NONSGML v1.0//EN
CALSCALE:GREGORIAN
METHOD:PUBLISH
X-ORIGINAL-URL:https://cdlsustainability.com
X-WR-CALDESC:Events for CDL Sustainability
REFRESH-INTERVAL;VALUE=DURATION:PT1H
X-Robots-Tag:noindex
X-PUBLISHED-TTL:PT1H
BEGIN:VTIMEZONE
TZID:Asia/Singapore
BEGIN:STANDARD
TZOFFSETFROM:+0800
TZOFFSETTO:+0800
TZNAME:+08
DTSTART:20240101T000000
END:STANDARD
END:VTIMEZONE
BEGIN:VEVENT
DTSTART;TZID=Asia/Singapore:20250721T080000
DTEND;TZID=Asia/Singapore:20250721T170000
DTSTAMP:20260426T034643
CREATED:20250701T074454Z
LAST-MODIFIED:20250721T075036Z
UID:22921-1753084800-1753117200@cdlsustainability.com
SUMMARY:The Transmutation Principle: SYNC Sustainability workshop – Climate Impact of Tech & Digital Sustainability
DESCRIPTION:
URL:https://cdlsustainability.com/event/the-transmutation-principle-sync-sustainability-workshop-climate-impact-of-tech-digital-sustainability/
CATEGORIES:Happenings
END:VEVENT
BEGIN:VEVENT
DTSTART;TZID=Asia/Singapore:20250721T080000
DTEND;TZID=Asia/Singapore:20250721T170000
DTSTAMP:20260426T034643
CREATED:20250708T093228Z
LAST-MODIFIED:20250721T093510Z
UID:22930-1753084800-1753117200@cdlsustainability.com
SUMMARY:World Green Building Council’s National Determined Contribution Workshop with Real World Business Case on Greening the Built Environment
DESCRIPTION:
URL:https://cdlsustainability.com/event/world-green-building-councils-national-determined-contribution-workshop-with-real-world-business-case-on-greening-the-built-environment/
CATEGORIES:Happenings
END:VEVENT
BEGIN:VEVENT
DTSTART;TZID=Asia/Singapore:20250721T080000
DTEND;TZID=Asia/Singapore:20250721T170000
DTSTAMP:20260426T034643
CREATED:20250714T075123Z
LAST-MODIFIED:20250721T075440Z
UID:22924-1753084800-1753117200@cdlsustainability.com
SUMMARY:EB Impact: The Sustainability Youth Festival (TSYF) Challenge Semi-Finals
DESCRIPTION:
URL:https://cdlsustainability.com/event/eb-impact-the-sustainability-youth-festival-tsyf-challenge-semi-finals/
CATEGORIES:Happenings
END:VEVENT
BEGIN:VEVENT
DTSTART;TZID=Asia/Singapore:20250721T080000
DTEND;TZID=Asia/Singapore:20250721T170000
DTSTAMP:20260426T034643
CREATED:20250718T075507Z
LAST-MODIFIED:20250721T075836Z
UID:22927-1753084800-1753117200@cdlsustainability.com
SUMMARY:CDL Sustainability Learning Trip for Staff
DESCRIPTION:
URL:https://cdlsustainability.com/event/cdl-sustainability-learning-trip-for-staff/
CATEGORIES:Happenings
END:VEVENT
END:VCALENDAR