BEGIN:VCALENDAR
VERSION:2.0
PRODID:-//CDL Sustainability - ECPv6.15.18//NONSGML v1.0//EN
CALSCALE:GREGORIAN
METHOD:PUBLISH
X-ORIGINAL-URL:https://cdlsustainability.com
X-WR-CALDESC:Events for CDL Sustainability
REFRESH-INTERVAL;VALUE=DURATION:PT1H
X-Robots-Tag:noindex
X-PUBLISHED-TTL:PT1H
BEGIN:VTIMEZONE
TZID:Asia/Singapore
BEGIN:STANDARD
TZOFFSETFROM:+0800
TZOFFSETTO:+0800
TZNAME:+08
DTSTART:20240101T000000
END:STANDARD
END:VTIMEZONE
BEGIN:VEVENT
DTSTART;TZID=Asia/Singapore:20250912T080000
DTEND;TZID=Asia/Singapore:20250912T170000
DTSTAMP:20260422T113154
CREATED:20250624T024516Z
LAST-MODIFIED:20250912T030734Z
UID:23131-1757664000-1757696400@cdlsustainability.com
SUMMARY:NUS CNCS – Combatting Wildlife Crime in Asia
DESCRIPTION:
URL:https://cdlsustainability.com/event/nus-cncs-combatting-wildlife-crime-in-asia/
CATEGORIES:Happenings
END:VEVENT
BEGIN:VEVENT
DTSTART;TZID=Asia/Singapore:20250912T080000
DTEND;TZID=Asia/Singapore:20250912T170000
DTSTAMP:20260422T113154
CREATED:20250904T030852Z
LAST-MODIFIED:20250912T061847Z
UID:23134-1757664000-1757696400@cdlsustainability.com
SUMMARY:GCNS – Members Event and Launch of 2024 Singapore Business Carbon Report
DESCRIPTION:
URL:https://cdlsustainability.com/event/gcns-members-event-and-launch-of-2024-singapore-business-carbon-report/
CATEGORIES:Happenings
END:VEVENT
BEGIN:VEVENT
DTSTART;TZID=Asia/Singapore:20250912T080000
DTEND;TZID=Asia/Singapore:20250912T170000
DTSTAMP:20260422T113154
CREATED:20250909T060444Z
LAST-MODIFIED:20250912T061654Z
UID:23137-1757664000-1757696400@cdlsustainability.com
SUMMARY:GGC Insight #5: How Leading Companies Accelerate Supply Chain Decarbonisation
DESCRIPTION:
URL:https://cdlsustainability.com/event/ggc-insight-5-how-leading-companies-accelerate-supply-chain-decarbonisation/
CATEGORIES:Happenings
END:VEVENT
BEGIN:VEVENT
DTSTART;TZID=Asia/Singapore:20250912T080000
DTEND;TZID=Asia/Singapore:20250912T170000
DTSTAMP:20260422T113154
CREATED:20250911T061854Z
LAST-MODIFIED:20250912T064457Z
UID:23142-1757664000-1757696400@cdlsustainability.com
SUMMARY:AlterCOP Launch Townhall
DESCRIPTION:
URL:https://cdlsustainability.com/event/altercop-launch-townhall/
CATEGORIES:Happenings
END:VEVENT
END:VCALENDAR