BEGIN:VCALENDAR
VERSION:2.0
PRODID:-//CDL Sustainability - ECPv6.15.18//NONSGML v1.0//EN
CALSCALE:GREGORIAN
METHOD:PUBLISH
X-WR-CALNAME:CDL Sustainability
X-ORIGINAL-URL:https://cdlsustainability.com
X-WR-CALDESC:Events for CDL Sustainability
REFRESH-INTERVAL;VALUE=DURATION:PT1H
X-Robots-Tag:noindex
X-PUBLISHED-TTL:PT1H
BEGIN:VTIMEZONE
TZID:Asia/Singapore
BEGIN:STANDARD
TZOFFSETFROM:+0800
TZOFFSETTO:+0800
TZNAME:+08
DTSTART:20240101T000000
END:STANDARD
END:VTIMEZONE
BEGIN:VEVENT
DTSTART;TZID=Asia/Singapore:20250923T080000
DTEND;TZID=Asia/Singapore:20250923T170000
DTSTAMP:20260421T084221
CREATED:20250724T014522Z
LAST-MODIFIED:20250923T022258Z
UID:23164-1758614400-1758646800@cdlsustainability.com
SUMMARY:SGBC Industry Course: Corporate Carbon Footprint for Climate-Related Disclosures
DESCRIPTION:
URL:https://cdlsustainability.com/event/sgbc-industry-course-corporate-carbon-footprint-for-climate-related-disclosures-2/
CATEGORIES:Happenings
END:VEVENT
BEGIN:VEVENT
DTSTART;TZID=Asia/Singapore:20250923T080000
DTEND;TZID=Asia/Singapore:20250923T170000
DTSTAMP:20260421T084221
CREATED:20250828T022650Z
LAST-MODIFIED:20250923T025917Z
UID:23168-1758614400-1758646800@cdlsustainability.com
SUMMARY:SGBC Industry Course on EPD Literacy: Building Product Carbon Performance
DESCRIPTION:
URL:https://cdlsustainability.com/event/sgbc-industry-course-on-epd-literacy-building-product-carbon-performance/
CATEGORIES:Happenings
END:VEVENT
BEGIN:VEVENT
DTSTART;TZID=Asia/Singapore:20250923T080000
DTEND;TZID=Asia/Singapore:20250923T170000
DTSTAMP:20260421T084221
CREATED:20250918T030521Z
LAST-MODIFIED:20250923T083916Z
UID:23171-1758614400-1758646800@cdlsustainability.com
SUMMARY:Better Earth Ventures and Climate KIC Reception
DESCRIPTION:
URL:https://cdlsustainability.com/event/better-earth-ventures-and-climate-kic-reception/
CATEGORIES:Happenings
END:VEVENT
END:VCALENDAR