BEGIN:VCALENDAR
VERSION:2.0
PRODID:-//CDL Sustainability - ECPv6.15.18//NONSGML v1.0//EN
CALSCALE:GREGORIAN
METHOD:PUBLISH
X-WR-CALNAME:CDL Sustainability
X-ORIGINAL-URL:https://cdlsustainability.com
X-WR-CALDESC:Events for CDL Sustainability
REFRESH-INTERVAL;VALUE=DURATION:PT1H
X-Robots-Tag:noindex
X-PUBLISHED-TTL:PT1H
BEGIN:VTIMEZONE
TZID:Asia/Singapore
BEGIN:STANDARD
TZOFFSETFROM:+0800
TZOFFSETTO:+0800
TZNAME:+08
DTSTART:20240101T000000
END:STANDARD
END:VTIMEZONE
BEGIN:VEVENT
DTSTART;TZID=Asia/Singapore:20251017T080000
DTEND;TZID=Asia/Singapore:20251017T170000
DTSTAMP:20260420T140635
CREATED:20250108T022108Z
LAST-MODIFIED:20251017T022748Z
UID:23308-1760688000-1760720400@cdlsustainability.com
SUMMARY:CDL SME Supplier Decarbonisation Queen Bee Programme Workshop
DESCRIPTION:
URL:https://cdlsustainability.com/event/cdl-sme-supplier-decarbonisation-queen-bee-programme-workshop-8/
CATEGORIES:Happenings
END:VEVENT
BEGIN:VEVENT
DTSTART;TZID=Asia/Singapore:20251017T080000
DTEND;TZID=Asia/Singapore:20251017T170000
DTSTAMP:20260420T140635
CREATED:20250109T022835Z
LAST-MODIFIED:20251017T023252Z
UID:23311-1760688000-1760720400@cdlsustainability.com
SUMMARY:CDL SME Supplier Decarbonisation Queen Bee Programme Workshop
DESCRIPTION:
URL:https://cdlsustainability.com/event/cdl-sme-supplier-decarbonisation-queen-bee-programme-workshop-9/
CATEGORIES:Happenings
END:VEVENT
BEGIN:VEVENT
DTSTART;TZID=Asia/Singapore:20251017T080000
DTEND;TZID=Asia/Singapore:20251017T170000
DTSTAMP:20260420T140635
CREATED:20250115T014126Z
LAST-MODIFIED:20251017T014949Z
UID:23301-1760688000-1760720400@cdlsustainability.com
SUMMARY:CDL SME Supplier Decarbonisation Queen Bee Programme Workshop
DESCRIPTION:
URL:https://cdlsustainability.com/event/cdl-sme-supplier-decarbonisation-queen-bee-programme-workshop-6/
CATEGORIES:Happenings
END:VEVENT
BEGIN:VEVENT
DTSTART;TZID=Asia/Singapore:20251017T080000
DTEND;TZID=Asia/Singapore:20251017T170000
DTSTAMP:20260420T140635
CREATED:20250212T020833Z
LAST-MODIFIED:20251017T025446Z
UID:23305-1760688000-1760720400@cdlsustainability.com
SUMMARY:CDL SME Supplier Decarbonisation Queen Bee Programme Workshop
DESCRIPTION:
URL:https://cdlsustainability.com/event/cdl-sme-supplier-decarbonisation-queen-bee-programme-workshop-7/
CATEGORIES:Happenings
END:VEVENT
BEGIN:VEVENT
DTSTART;TZID=Asia/Singapore:20251017T080000
DTEND;TZID=Asia/Singapore:20251017T170000
DTSTAMP:20260420T140635
CREATED:20250213T023349Z
LAST-MODIFIED:20251017T024514Z
UID:23314-1760688000-1760720400@cdlsustainability.com
SUMMARY:CDL SME Supplier Decarbonisation Queen Bee Programme Workshop
DESCRIPTION:
URL:https://cdlsustainability.com/event/cdl-sme-supplier-decarbonisation-queen-bee-programme-workshop-10/
CATEGORIES:Happenings
END:VEVENT
BEGIN:VEVENT
DTSTART;TZID=Asia/Singapore:20251017T080000
DTEND;TZID=Asia/Singapore:20251017T170000
DTSTAMP:20260420T140635
CREATED:20250219T030123Z
LAST-MODIFIED:20251017T030952Z
UID:23320-1760688000-1760720400@cdlsustainability.com
SUMMARY:CDL SME Supplier Decarbonisation Queen Bee Programme Workshop
DESCRIPTION:
URL:https://cdlsustainability.com/event/cdl-sme-supplier-decarbonisation-queen-bee-programme-workshop-11/
CATEGORIES:Happenings
END:VEVENT
BEGIN:VEVENT
DTSTART;TZID=Asia/Singapore:20251017T080000
DTEND;TZID=Asia/Singapore:20251017T170000
DTSTAMP:20260420T140635
CREATED:20250313T031027Z
LAST-MODIFIED:20251017T031712Z
UID:23323-1760688000-1760720400@cdlsustainability.com
SUMMARY:CDL SME Supplier Decarbonisation Queen Bee Programme Workshop
DESCRIPTION:
URL:https://cdlsustainability.com/event/cdl-sme-supplier-decarbonisation-queen-bee-programme-workshop-12/
CATEGORIES:Happenings
END:VEVENT
BEGIN:VEVENT
DTSTART;TZID=Asia/Singapore:20251017T080000
DTEND;TZID=Asia/Singapore:20251017T170000
DTSTAMP:20260420T140635
CREATED:20250319T031859Z
LAST-MODIFIED:20251017T032428Z
UID:23326-1760688000-1760720400@cdlsustainability.com
SUMMARY:CDL SME Supplier Decarbonisation Queen Bee Programme Workshop
DESCRIPTION:
URL:https://cdlsustainability.com/event/cdl-sme-supplier-decarbonisation-queen-bee-programme-workshop-13/
CATEGORIES:Happenings
END:VEVENT
BEGIN:VEVENT
DTSTART;TZID=Asia/Singapore:20251017T080000
DTEND;TZID=Asia/Singapore:20251017T170000
DTSTAMP:20260420T140635
CREATED:20250522T012735Z
LAST-MODIFIED:20251017T015359Z
UID:23295-1760688000-1760720400@cdlsustainability.com
SUMMARY:CDL SME Supplier Decarbonisation Queen Bee Programme Workshop
DESCRIPTION:
URL:https://cdlsustainability.com/event/cdl-sme-supplier-decarbonisation-queen-bee-programme-workshop-4/
CATEGORIES:Happenings
END:VEVENT
BEGIN:VEVENT
DTSTART;TZID=Asia/Singapore:20251017T080000
DTEND;TZID=Asia/Singapore:20251017T170000
DTSTAMP:20260420T140635
CREATED:20250612T013446Z
LAST-MODIFIED:20251017T033150Z
UID:23298-1760688000-1760720400@cdlsustainability.com
SUMMARY:CDL SME Supplier Decarbonisation Queen Bee Programme Workshop
DESCRIPTION:
URL:https://cdlsustainability.com/event/cdl-sme-supplier-decarbonisation-queen-bee-programme-workshop-5/
CATEGORIES:Happenings
END:VEVENT
END:VCALENDAR