BEGIN:VCALENDAR
VERSION:2.0
PRODID:-//CDL Sustainability - ECPv6.15.18//NONSGML v1.0//EN
CALSCALE:GREGORIAN
METHOD:PUBLISH
X-WR-CALNAME:CDL Sustainability
X-ORIGINAL-URL:https://cdlsustainability.com
X-WR-CALDESC:Events for CDL Sustainability
REFRESH-INTERVAL;VALUE=DURATION:PT1H
X-Robots-Tag:noindex
X-PUBLISHED-TTL:PT1H
BEGIN:VTIMEZONE
TZID:Asia/Singapore
BEGIN:STANDARD
TZOFFSETFROM:+0800
TZOFFSETTO:+0800
TZNAME:+08
DTSTART:20220101T000000
END:STANDARD
END:VTIMEZONE
BEGIN:VEVENT
DTSTART;VALUE=DATE:20230506
DTEND;VALUE=DATE:20230507
DTSTAMP:20260420T103753
CREATED:20230506T002829Z
LAST-MODIFIED:20230518T003551Z
UID:17152-1683331200-1683417599@cdlsustainability.com
SUMMARY:Youth Expedition Project Leaders’ Training Course
DESCRIPTION:
URL:https://cdlsustainability.com/event/youth-expedition-project-leaders-training-course/
CATEGORIES:Happenings
END:VEVENT
BEGIN:VEVENT
DTSTART;VALUE=DATE:20230510
DTEND;VALUE=DATE:20230511
DTSTAMP:20260420T103753
CREATED:20230510T013425Z
LAST-MODIFIED:20230522T073628Z
UID:17133-1683676800-1683763199@cdlsustainability.com
SUMMARY:SGBC Seminar: Enhancing Energy Efficiency – Wising Up to Smart Technology with IoT
DESCRIPTION:
URL:https://cdlsustainability.com/event/sgbc-seminar-enhancing-energy-efficiency-wising-up-to-smart-technology-with-iot/
CATEGORIES:Happenings
END:VEVENT
BEGIN:VEVENT
DTSTART;VALUE=DATE:20230513
DTEND;VALUE=DATE:20230514
DTSTAMP:20260420T103753
CREATED:20230513T073342Z
LAST-MODIFIED:20230522T073554Z
UID:17189-1683936000-1684022399@cdlsustainability.com
SUMMARY:Secondsguru’s 8th Zero Waste Bootcamp Final Review
DESCRIPTION:
URL:https://cdlsustainability.com/event/secondsgurus-8th-zero-waste-bootcamp-final-review/
CATEGORIES:Happenings
END:VEVENT
BEGIN:VEVENT
DTSTART;VALUE=DATE:20230520
DTEND;VALUE=DATE:20230521
DTSTAMP:20260420T103753
CREATED:20230523T032330Z
LAST-MODIFIED:20230523T032330Z
UID:17206-1684540800-1684627199@cdlsustainability.com
SUMMARY:ACRES Birthday Luncheon
DESCRIPTION:
URL:https://cdlsustainability.com/event/acres-birthday-luncheon/
CATEGORIES:Happenings
END:VEVENT
BEGIN:VEVENT
DTSTART;VALUE=DATE:20230524
DTEND;VALUE=DATE:20230525
DTSTAMP:20260420T103753
CREATED:20230524T042547Z
LAST-MODIFIED:20230605T043253Z
UID:17212-1684886400-1684972799@cdlsustainability.com
SUMMARY:CIX-GCNS Carbon Emissions and Carbon Credits Fundamentals Workshop
DESCRIPTION:
URL:https://cdlsustainability.com/event/cix-gcns-carbon-emissions-and-carbon-credits-fundamentals-workshop/
CATEGORIES:Happenings
END:VEVENT
BEGIN:VEVENT
DTSTART;VALUE=DATE:20230526
DTEND;VALUE=DATE:20230527
DTSTAMP:20260420T103753
CREATED:20230526T022403Z
LAST-MODIFIED:20230608T022717Z
UID:17227-1685059200-1685145599@cdlsustainability.com
SUMMARY:GCNS Foundations in Corporate Sustainability Course
DESCRIPTION:
URL:https://cdlsustainability.com/event/gcns-foundations-in-corporate-sustainability-course-2/
CATEGORIES:Happenings
END:VEVENT
END:VCALENDAR