BEGIN:VCALENDAR
VERSION:2.0
PRODID:-//CDL Sustainability - ECPv6.15.18//NONSGML v1.0//EN
CALSCALE:GREGORIAN
METHOD:PUBLISH
X-ORIGINAL-URL:https://cdlsustainability.com
X-WR-CALDESC:Events for CDL Sustainability
REFRESH-INTERVAL;VALUE=DURATION:PT1H
X-Robots-Tag:noindex
X-PUBLISHED-TTL:PT1H
BEGIN:VTIMEZONE
TZID:Asia/Singapore
BEGIN:STANDARD
TZOFFSETFROM:+0800
TZOFFSETTO:+0800
TZNAME:+08
DTSTART:20220101T000000
END:STANDARD
END:VTIMEZONE
BEGIN:VEVENT
DTSTART;VALUE=DATE:20230211
DTEND;VALUE=DATE:20230212
DTSTAMP:20260425T025136
CREATED:20230214T011401Z
LAST-MODIFIED:20230214T011401Z
UID:15379-1676073600-1676159999@cdlsustainability.com
SUMMARY:Singapore Youth for Climate Action Keeping Up with Climate Policy Workshop #5
DESCRIPTION:
URL:https://cdlsustainability.com/event/singapore-youth-for-climate-action-keeping-up-with-climate-policy-workshop-5/
CATEGORIES:Happenings
END:VEVENT
END:VCALENDAR