BEGIN:VCALENDAR
VERSION:2.0
PRODID:-//CDL Sustainability - ECPv6.15.18//NONSGML v1.0//EN
CALSCALE:GREGORIAN
METHOD:PUBLISH
X-ORIGINAL-URL:https://cdlsustainability.com
X-WR-CALDESC:Events for CDL Sustainability
REFRESH-INTERVAL;VALUE=DURATION:PT1H
X-Robots-Tag:noindex
X-PUBLISHED-TTL:PT1H
BEGIN:VTIMEZONE
TZID:Asia/Singapore
BEGIN:STANDARD
TZOFFSETFROM:+0800
TZOFFSETTO:+0800
TZNAME:+08
DTSTART:20220101T000000
END:STANDARD
END:VTIMEZONE
BEGIN:VEVENT
DTSTART;VALUE=DATE:20230221
DTEND;VALUE=DATE:20230222
DTSTAMP:20260425T042240
CREATED:20230221T011211Z
LAST-MODIFIED:20230921T032642Z
UID:17169-1676937600-1677023999@cdlsustainability.com
SUMMARY:Singapore Environment Council: Putting Sustainability into Business Practice
DESCRIPTION:
URL:https://cdlsustainability.com/event/singapore-environment-council-putting-sustainability-into-business-practice/
CATEGORIES:Happenings
END:VEVENT
END:VCALENDAR