BEGIN:VCALENDAR
VERSION:2.0
PRODID:-//CDL Sustainability - ECPv6.15.18//NONSGML v1.0//EN
CALSCALE:GREGORIAN
METHOD:PUBLISH
X-ORIGINAL-URL:https://cdlsustainability.com
X-WR-CALDESC:Events for CDL Sustainability
REFRESH-INTERVAL;VALUE=DURATION:PT1H
X-Robots-Tag:noindex
X-PUBLISHED-TTL:PT1H
BEGIN:VTIMEZONE
TZID:Asia/Singapore
BEGIN:STANDARD
TZOFFSETFROM:+0800
TZOFFSETTO:+0800
TZNAME:+08
DTSTART:20240101T000000
END:STANDARD
END:VTIMEZONE
BEGIN:VEVENT
DTSTART;TZID=Asia/Singapore:20250730T080000
DTEND;TZID=Asia/Singapore:20250730T170000
DTSTAMP:20260420T110751
CREATED:20250703T065704Z
LAST-MODIFIED:20250730T065916Z
UID:22959-1753862400-1753894800@cdlsustainability.com
SUMMARY:GGC & GGEF Certified B Corp Celebration
DESCRIPTION:
URL:https://cdlsustainability.com/event/ggc-ggef-certified-b-corp-celebration/
CATEGORIES:Happenings
END:VEVENT
BEGIN:VEVENT
DTSTART;TZID=Asia/Singapore:20250730T080000
DTEND;TZID=Asia/Singapore:20250730T170000
DTSTAMP:20260420T110751
CREATED:20250709T064722Z
LAST-MODIFIED:20250730T065421Z
UID:22956-1753862400-1753894800@cdlsustainability.com
SUMMARY:The Transmutation Principle – The 3% ESG Leadership: Decarbonise your Tech Stack
DESCRIPTION:
URL:https://cdlsustainability.com/event/the-transmutation-principle-the-3-esg-leadership-decarbonise-your-tech-stack/
CATEGORIES:Happenings
END:VEVENT
BEGIN:VEVENT
DTSTART;TZID=Asia/Singapore:20250730T080000
DTEND;TZID=Asia/Singapore:20250730T170000
DTSTAMP:20260420T110751
CREATED:20250718T070018Z
LAST-MODIFIED:20250730T070250Z
UID:22962-1753862400-1753894800@cdlsustainability.com
SUMMARY:SGBC Industry Course: Hands-On Training with the Building Embodied Carbon Calculator
DESCRIPTION:
URL:https://cdlsustainability.com/event/sgbc-industry-course-hands-on-training-with-the-building-embodied-carbon-calculator/
CATEGORIES:Happenings
END:VEVENT
BEGIN:VEVENT
DTSTART;TZID=Asia/Singapore:20250730T080000
DTEND;TZID=Asia/Singapore:20250730T170000
DTSTAMP:20260420T110751
CREATED:20250719T021249Z
LAST-MODIFIED:20250730T021631Z
UID:22940-1753862400-1753894800@cdlsustainability.com
SUMMARY:Climate Youth Community (from Climate Youth Development Programme): Climate Sparks Lab
DESCRIPTION:
URL:https://cdlsustainability.com/event/climate-youth-community-from-climate-youth-development-programme-climate-sparks-lab/
CATEGORIES:Happenings
END:VEVENT
BEGIN:VEVENT
DTSTART;TZID=Asia/Singapore:20250730T080000
DTEND;TZID=Asia/Singapore:20250730T170000
DTSTAMP:20260420T110751
CREATED:20250719T023202Z
LAST-MODIFIED:20250730T023345Z
UID:22950-1753862400-1753894800@cdlsustainability.com
SUMMARY:Singapore Youth for Climate Action Bootcamp
DESCRIPTION:
URL:https://cdlsustainability.com/event/singapore-youth-for-climate-action-bootcamp/
CATEGORIES:Happenings
END:VEVENT
BEGIN:VEVENT
DTSTART;TZID=Asia/Singapore:20250730T080000
DTEND;TZID=Asia/Singapore:20250730T170000
DTSTAMP:20260420T110751
CREATED:20250722T023710Z
LAST-MODIFIED:20250923T014444Z
UID:22953-1753862400-1753894800@cdlsustainability.com
SUMMARY:SGBC Industry Course: Accessing Green and Sustainable Finance with Green Building
DESCRIPTION:
URL:https://cdlsustainability.com/event/sgbc-industry-course-accessing-green-and-sustainable-finance-with-green-building/
CATEGORIES:Happenings
END:VEVENT
BEGIN:VEVENT
DTSTART;TZID=Asia/Singapore:20250730T080000
DTEND;TZID=Asia/Singapore:20250730T170000
DTSTAMP:20260420T110751
CREATED:20250726T022634Z
LAST-MODIFIED:20250730T023047Z
UID:22947-1753862400-1753894800@cdlsustainability.com
SUMMARY:WWF Cyber Spotter Programme 2.0: Training Session
DESCRIPTION:
URL:https://cdlsustainability.com/event/wwf-cyber-spotter-programme-2-0-training-session/
CATEGORIES:Happenings
END:VEVENT
BEGIN:VEVENT
DTSTART;TZID=Asia/Singapore:20250730T080000
DTEND;TZID=Asia/Singapore:20250730T170000
DTSTAMP:20260420T110751
CREATED:20250727T021829Z
LAST-MODIFIED:20250730T022301Z
UID:22943-1753862400-1753894800@cdlsustainability.com
SUMMARY:Local Conference of Youth
DESCRIPTION:
URL:https://cdlsustainability.com/event/local-conference-of-youth-day-1/
CATEGORIES:Happenings
END:VEVENT
END:VCALENDAR