BEGIN:VCALENDAR
VERSION:2.0
PRODID:-//CDL Sustainability - ECPv6.15.18//NONSGML v1.0//EN
CALSCALE:GREGORIAN
METHOD:PUBLISH
X-WR-CALNAME:CDL Sustainability
X-ORIGINAL-URL:https://cdlsustainability.com
X-WR-CALDESC:Events for CDL Sustainability
REFRESH-INTERVAL;VALUE=DURATION:PT1H
X-Robots-Tag:noindex
X-PUBLISHED-TTL:PT1H
BEGIN:VTIMEZONE
TZID:Asia/Singapore
BEGIN:STANDARD
TZOFFSETFROM:+0800
TZOFFSETTO:+0800
TZNAME:+08
DTSTART:20240101T000000
END:STANDARD
END:VTIMEZONE
BEGIN:VEVENT
DTSTART;TZID=Asia/Singapore:20250804T080000
DTEND;TZID=Asia/Singapore:20250804T170000
DTSTAMP:20260420T005828
CREATED:20250731T093226Z
LAST-MODIFIED:20250804T093441Z
UID:22975-1754294400-1754326800@cdlsustainability.com
SUMMARY:Heat\, Health and Harmony
DESCRIPTION:
URL:https://cdlsustainability.com/event/heat-health-and-harmony/
CATEGORIES:Happenings
END:VEVENT
BEGIN:VEVENT
DTSTART;TZID=Asia/Singapore:20250804T080000
DTEND;TZID=Asia/Singapore:20250804T170000
DTSTAMP:20260420T005828
CREATED:20250801T093105Z
LAST-MODIFIED:20250804T093606Z
UID:22972-1754294400-1754326800@cdlsustainability.com
SUMMARY:From Glaciers to Forests: Turning Dreams into Action with Robert & Barney Swan
DESCRIPTION:
URL:https://cdlsustainability.com/event/from-glaciers-to-forests-turning-dreams-into-action-with-robert-barney-swan/
CATEGORIES:Happenings
END:VEVENT
END:VCALENDAR