BEGIN:VCALENDAR
VERSION:2.0
PRODID:-//CDL Sustainability - ECPv6.15.18//NONSGML v1.0//EN
CALSCALE:GREGORIAN
METHOD:PUBLISH
X-WR-CALNAME:CDL Sustainability
X-ORIGINAL-URL:https://cdlsustainability.com
X-WR-CALDESC:Events for CDL Sustainability
REFRESH-INTERVAL;VALUE=DURATION:PT1H
X-Robots-Tag:noindex
X-PUBLISHED-TTL:PT1H
BEGIN:VTIMEZONE
TZID:Asia/Singapore
BEGIN:STANDARD
TZOFFSETFROM:+0800
TZOFFSETTO:+0800
TZNAME:+08
DTSTART:20240101T000000
END:STANDARD
END:VTIMEZONE
BEGIN:VEVENT
DTSTART;TZID=Asia/Singapore:20250827T080000
DTEND;TZID=Asia/Singapore:20250827T170000
DTSTAMP:20260422T041240
CREATED:20250725T094049Z
LAST-MODIFIED:20250827T094320Z
UID:23012-1756281600-1756314000@cdlsustainability.com
SUMMARY:NTUC Masterclass for Sustainable Procurement for SMEs
DESCRIPTION:
URL:https://cdlsustainability.com/event/ntuc-masterclass-for-sustainable-procurement-for-smes/
CATEGORIES:Happenings
END:VEVENT
BEGIN:VEVENT
DTSTART;TZID=Asia/Singapore:20250827T080000
DTEND;TZID=Asia/Singapore:20250827T170000
DTSTAMP:20260422T041240
CREATED:20250812T100101Z
LAST-MODIFIED:20250827T100408Z
UID:23021-1756281600-1756314000@cdlsustainability.com
SUMMARY:Better Earth Ventures: Module 5 – Impact Narratives & Crafting the Perfect Pitch
DESCRIPTION:
URL:https://cdlsustainability.com/event/better-earth-ventures-module-5-impact-narratives-crafting-the-perfect-pitch/
CATEGORIES:Happenings
END:VEVENT
BEGIN:VEVENT
DTSTART;TZID=Asia/Singapore:20250827T080000
DTEND;TZID=Asia/Singapore:20250827T170000
DTSTAMP:20260422T041240
CREATED:20250815T095725Z
LAST-MODIFIED:20250827T100006Z
UID:23018-1756281600-1756314000@cdlsustainability.com
SUMMARY:SGBC Industry Course: Hands-On Training with the Mechanical & Electrical Carbon Calculator (MECC)
DESCRIPTION:
URL:https://cdlsustainability.com/event/sgbc-industry-course-hands-on-training-with-the-mechanical-electrical-carbon-calculator-mecc/
CATEGORIES:Happenings
END:VEVENT
BEGIN:VEVENT
DTSTART;TZID=Asia/Singapore:20250827T080000
DTEND;TZID=Asia/Singapore:20250827T170000
DTSTAMP:20260422T041240
CREATED:20250816T094946Z
LAST-MODIFIED:20250827T095614Z
UID:23015-1756281600-1756314000@cdlsustainability.com
SUMMARY:CDL-GCNS Young SDG Leaders Award Final Judging
DESCRIPTION:
URL:https://cdlsustainability.com/event/cdl-gcns-young-sdg-leaders-award-final-judging-4/
CATEGORIES:Happenings
END:VEVENT
BEGIN:VEVENT
DTSTART;TZID=Asia/Singapore:20250827T080000
DTEND;TZID=Asia/Singapore:20250827T170000
DTSTAMP:20260422T041240
CREATED:20250821T092946Z
LAST-MODIFIED:20250827T093437Z
UID:23006-1756281600-1756314000@cdlsustainability.com
SUMMARY:YSEALI Alumni Networking
DESCRIPTION:
URL:https://cdlsustainability.com/event/yseali-alumni-networking/
CATEGORIES:Happenings
END:VEVENT
BEGIN:VEVENT
DTSTART;TZID=Asia/Singapore:20250827T080000
DTEND;TZID=Asia/Singapore:20250827T170000
DTSTAMP:20260422T041240
CREATED:20250821T093558Z
LAST-MODIFIED:20250827T093828Z
UID:23009-1756281600-1756314000@cdlsustainability.com
SUMMARY:SGBC Industry Course EPD Literacy: Context\, Methodology and Insights into Carbon Performance of Building Products
DESCRIPTION:
URL:https://cdlsustainability.com/event/sgbc-industry-course-epd-literacy-context-methodology-and-insights-into-carbon-performance-of-building-products/
CATEGORIES:Happenings
END:VEVENT
BEGIN:VEVENT
DTSTART;TZID=Asia/Singapore:20250827T080000
DTEND;TZID=Asia/Singapore:20250827T170000
DTSTAMP:20260422T041240
CREATED:20250823T092346Z
LAST-MODIFIED:20250827T092910Z
UID:23003-1756281600-1756314000@cdlsustainability.com
SUMMARY:“We Love Our Planet” Storytelling Contest Final Judging
DESCRIPTION:
URL:https://cdlsustainability.com/event/we-love-our-planet-storytelling-contest-final-judging/
CATEGORIES:Happenings
END:VEVENT
BEGIN:VEVENT
DTSTART;TZID=Asia/Singapore:20250827T080000
DTEND;TZID=Asia/Singapore:20250827T170000
DTSTAMP:20260422T041240
CREATED:20250825T091949Z
LAST-MODIFIED:20250827T092313Z
UID:23000-1756281600-1756314000@cdlsustainability.com
SUMMARY:IES-INCA Technopreneur Dialogue 2025 – Riding the Waves of Technology Advancements
DESCRIPTION:
URL:https://cdlsustainability.com/event/ies-inca-technopreneur-dialogue-2025-riding-the-waves-of-technology-advancements/
CATEGORIES:Happenings
END:VEVENT
END:VCALENDAR