BEGIN:VCALENDAR
VERSION:2.0
PRODID:-//CDL Sustainability - ECPv6.15.18//NONSGML v1.0//EN
CALSCALE:GREGORIAN
METHOD:PUBLISH
X-WR-CALNAME:CDL Sustainability
X-ORIGINAL-URL:https://cdlsustainability.com
X-WR-CALDESC:Events for CDL Sustainability
REFRESH-INTERVAL;VALUE=DURATION:PT1H
X-Robots-Tag:noindex
X-PUBLISHED-TTL:PT1H
BEGIN:VTIMEZONE
TZID:Asia/Singapore
BEGIN:STANDARD
TZOFFSETFROM:+0800
TZOFFSETTO:+0800
TZNAME:+08
DTSTART:20240101T000000
END:STANDARD
END:VTIMEZONE
BEGIN:VEVENT
DTSTART;TZID=Asia/Singapore:20250929T080000
DTEND;TZID=Asia/Singapore:20250929T170000
DTSTAMP:20260420T170034
CREATED:20250810T041439Z
LAST-MODIFIED:20250929T042145Z
UID:23188-1759132800-1759165200@cdlsustainability.com
SUMMARY:Youth Expedition Project Leaders’ Training Course
DESCRIPTION:
URL:https://cdlsustainability.com/event/youth-expedition-project-leaders-training-course-20/
CATEGORIES:Happenings
END:VEVENT
BEGIN:VEVENT
DTSTART;TZID=Asia/Singapore:20250929T080000
DTEND;TZID=Asia/Singapore:20250929T170000
DTSTAMP:20260420T170034
CREATED:20250921T042307Z
LAST-MODIFIED:20250929T043940Z
UID:23191-1759132800-1759165200@cdlsustainability.com
SUMMARY:Youth Expedition Project Leaders’ Training Course
DESCRIPTION:
URL:https://cdlsustainability.com/event/youth-expedition-project-leaders-training-course-21/
CATEGORIES:Happenings
END:VEVENT
BEGIN:VEVENT
DTSTART;TZID=Asia/Singapore:20250929T080000
DTEND;TZID=Asia/Singapore:20250929T170000
DTSTAMP:20260420T170034
CREATED:20250923T044006Z
LAST-MODIFIED:20250929T044637Z
UID:23194-1759132800-1759165200@cdlsustainability.com
SUMMARY:The Courage Chapter – The Currency of Courage
DESCRIPTION:
URL:https://cdlsustainability.com/event/the-courage-chapter-the-currency-of-courage/
CATEGORIES:Happenings
END:VEVENT
END:VCALENDAR