BEGIN:VCALENDAR
VERSION:2.0
PRODID:-//CDL Sustainability - ECPv6.15.18//NONSGML v1.0//EN
CALSCALE:GREGORIAN
METHOD:PUBLISH
X-ORIGINAL-URL:https://cdlsustainability.com
X-WR-CALDESC:Events for CDL Sustainability
REFRESH-INTERVAL;VALUE=DURATION:PT1H
X-Robots-Tag:noindex
X-PUBLISHED-TTL:PT1H
BEGIN:VTIMEZONE
TZID:Asia/Singapore
BEGIN:STANDARD
TZOFFSETFROM:+0800
TZOFFSETTO:+0800
TZNAME:+08
DTSTART:20240101T000000
END:STANDARD
END:VTIMEZONE
BEGIN:VEVENT
DTSTART;TZID=Asia/Singapore:20251001T080000
DTEND;TZID=Asia/Singapore:20251001T170000
DTSTAMP:20260421T104258
CREATED:20250919T023943Z
LAST-MODIFIED:20251001T031316Z
UID:23208-1759305600-1759338000@cdlsustainability.com
SUMMARY:Origin Of Sustainability: The Nature’s Wonder Of Algae
DESCRIPTION:
URL:https://cdlsustainability.com/event/origin-of-sustainability-the-natures-wonder-of-algae/
CATEGORIES:Happenings
END:VEVENT
BEGIN:VEVENT
DTSTART;TZID=Asia/Singapore:20251001T080000
DTEND;TZID=Asia/Singapore:20251001T170000
DTSTAMP:20260421T104258
CREATED:20250925T011129Z
LAST-MODIFIED:20251001T014850Z
UID:23205-1759305600-1759338000@cdlsustainability.com
SUMMARY:Remarkable Women Asia – W/W Peer Series – For Women
DESCRIPTION:
URL:https://cdlsustainability.com/event/remarkable-women-asia-w-w-peer-series-for-women/
CATEGORIES:Happenings
END:VEVENT
BEGIN:VEVENT
DTSTART;TZID=Asia/Singapore:20251001T080000
DTEND;TZID=Asia/Singapore:20251001T170000
DTSTAMP:20260421T104258
CREATED:20250928T004128Z
LAST-MODIFIED:20251001T030140Z
UID:23198-1759305600-1759338000@cdlsustainability.com
SUMMARY:Justice Without Borders – Access to Justice Roundtable with Migrant Domestic Workers (MDWs)
DESCRIPTION:
URL:https://cdlsustainability.com/event/access-to-justice-roundtable-with-migrant-domestic-workers-mdws/
CATEGORIES:Happenings
END:VEVENT
END:VCALENDAR