BEGIN:VCALENDAR
VERSION:2.0
PRODID:-//CDL Sustainability - ECPv6.15.18//NONSGML v1.0//EN
CALSCALE:GREGORIAN
METHOD:PUBLISH
X-ORIGINAL-URL:https://cdlsustainability.com
X-WR-CALDESC:Events for CDL Sustainability
REFRESH-INTERVAL;VALUE=DURATION:PT1H
X-Robots-Tag:noindex
X-PUBLISHED-TTL:PT1H
BEGIN:VTIMEZONE
TZID:Asia/Singapore
BEGIN:STANDARD
TZOFFSETFROM:+0800
TZOFFSETTO:+0800
TZNAME:+08
DTSTART:20250101T000000
END:STANDARD
END:VTIMEZONE
BEGIN:VEVENT
DTSTART;TZID=Asia/Singapore:20260423T080000
DTEND;TZID=Asia/Singapore:20260423T170000
DTSTAMP:20260425T210354
CREATED:20260422T031249Z
LAST-MODIFIED:20260423T063852Z
UID:24872-1776931200-1776963600@cdlsustainability.com
SUMMARY:MENDAKI SEEK Series #1: The Blueprint in Action – Scaling Sustainable Infrastructure
DESCRIPTION:
URL:https://cdlsustainability.com/event/mendaki-seek-series-1/
CATEGORIES:Happenings
END:VEVENT
END:VCALENDAR