BEGIN:VCALENDAR
VERSION:2.0
PRODID:-//CDL Sustainability - ECPv6.15.18//NONSGML v1.0//EN
CALSCALE:GREGORIAN
METHOD:PUBLISH
X-ORIGINAL-URL:https://cdlsustainability.com
X-WR-CALDESC:Events for CDL Sustainability
REFRESH-INTERVAL;VALUE=DURATION:PT1H
X-Robots-Tag:noindex
X-PUBLISHED-TTL:PT1H
BEGIN:VTIMEZONE
TZID:Asia/Singapore
BEGIN:STANDARD
TZOFFSETFROM:+0800
TZOFFSETTO:+0800
TZNAME:+08
DTSTART:20250101T000000
END:STANDARD
END:VTIMEZONE
BEGIN:VEVENT
DTSTART;TZID=Asia/Singapore:20260420T080000
DTEND;TZID=Asia/Singapore:20260420T170000
DTSTAMP:20260421T122608
CREATED:20260417T083938Z
LAST-MODIFIED:20260420T085311Z
UID:24868-1776672000-1776704400@cdlsustainability.com
SUMMARY:Latin American Chamber of Commerce Learning Journey
DESCRIPTION:
URL:https://cdlsustainability.com/event/latin-american-chamber-of-commerce-learning-journey/
CATEGORIES:Happenings
END:VEVENT
END:VCALENDAR