BEGIN:VCALENDAR
VERSION:2.0
PRODID:-//CDL Sustainability - ECPv6.15.18//NONSGML v1.0//EN
CALSCALE:GREGORIAN
METHOD:PUBLISH
X-WR-CALNAME:CDL Sustainability
X-ORIGINAL-URL:https://cdlsustainability.com
X-WR-CALDESC:Events for CDL Sustainability
REFRESH-INTERVAL;VALUE=DURATION:PT1H
X-Robots-Tag:noindex
X-PUBLISHED-TTL:PT1H
BEGIN:VTIMEZONE
TZID:Asia/Singapore
BEGIN:STANDARD
TZOFFSETFROM:+0800
TZOFFSETTO:+0800
TZNAME:+08
DTSTART:20170101T000000
END:STANDARD
END:VTIMEZONE
BEGIN:VEVENT
DTSTART;TZID=Asia/Singapore:20180511T170000
DTEND;TZID=Asia/Singapore:20180511T213000
DTSTAMP:20260420T142739
CREATED:20180613T041002Z
LAST-MODIFIED:20190523T180800Z
UID:2950-1526058000-1526074200@cdlsustainability.com
SUMMARY:LepakinSG Film Screening of the Albatross
DESCRIPTION:
URL:https://cdlsustainability.com/event/lepakinsg-film-screening-albatross/
CATEGORIES:Happenings
END:VEVENT
BEGIN:VEVENT
DTSTART;TZID=Asia/Singapore:20180523T080000
DTEND;TZID=Asia/Singapore:20180523T170000
DTSTAMP:20260420T142739
CREATED:20180613T041514Z
LAST-MODIFIED:20190523T180807Z
UID:2958-1527062400-1527094800@cdlsustainability.com
SUMMARY:China Europe International Business School Visit to the SSA
DESCRIPTION:
URL:https://cdlsustainability.com/event/china-europe-international-business-school-visit-ssa/
CATEGORIES:Happenings
END:VEVENT
BEGIN:VEVENT
DTSTART;TZID=Asia/Singapore:20180526T080000
DTEND;TZID=Asia/Singapore:20180526T170000
DTSTAMP:20260420T142739
CREATED:20180620T092001Z
LAST-MODIFIED:20190523T180812Z
UID:2970-1527321600-1527354000@cdlsustainability.com
SUMMARY:Skillseed 'The Adventurous Fellowship' Briefing
DESCRIPTION:
URL:https://cdlsustainability.com/event/skillseed-adventurous-fellowship-briefing/
CATEGORIES:Happenings
END:VEVENT
END:VCALENDAR