BEGIN:VCALENDAR
VERSION:2.0
PRODID:-//CDL Sustainability - ECPv6.15.18//NONSGML v1.0//EN
CALSCALE:GREGORIAN
METHOD:PUBLISH
X-ORIGINAL-URL:https://cdlsustainability.com
X-WR-CALDESC:Events for CDL Sustainability
REFRESH-INTERVAL;VALUE=DURATION:PT1H
X-Robots-Tag:noindex
X-PUBLISHED-TTL:PT1H
BEGIN:VTIMEZONE
TZID:Asia/Singapore
BEGIN:STANDARD
TZOFFSETFROM:+0800
TZOFFSETTO:+0800
TZNAME:+08
DTSTART:20170101T000000
END:STANDARD
END:VTIMEZONE
BEGIN:VEVENT
DTSTART;TZID=Asia/Singapore:20180706T080000
DTEND;TZID=Asia/Singapore:20180707T170000
DTSTAMP:20260421T125700
CREATED:20181006T135003Z
LAST-MODIFIED:20190523T180902Z
UID:3301-1530864000-1530982800@cdlsustainability.com
SUMMARY:UN Environment (UNE) Southeast Asian Youth Environmental Network (SEAYEN)  Forum
DESCRIPTION:
URL:https://cdlsustainability.com/event/un-environment-une-southeast-asian-youth-environmental-network-seayen-forum/
CATEGORIES:Happenings
END:VEVENT
BEGIN:VEVENT
DTSTART;VALUE=DATE:20180711
DTEND;VALUE=DATE:20180712
DTSTAMP:20260421T125700
CREATED:20181006T135349Z
LAST-MODIFIED:20190523T180907Z
UID:3304-1531267200-1531353599@cdlsustainability.com
SUMMARY:LepakinSG PublicAction’s discussion about the Sustainable Singapore Blueprint
DESCRIPTION:
URL:https://cdlsustainability.com/event/lepakinsg-publicactions-discussion-sustainable-singapore-blueprint/
CATEGORIES:Happenings
END:VEVENT
BEGIN:VEVENT
DTSTART;VALUE=DATE:20180720
DTEND;VALUE=DATE:20180721
DTSTAMP:20260421T125700
CREATED:20181006T135636Z
LAST-MODIFIED:20190523T180913Z
UID:3309-1532044800-1532131199@cdlsustainability.com
SUMMARY:LepakinSG ‘Sea our Shores’ Blue Nudge Workshop
DESCRIPTION:
URL:https://cdlsustainability.com/event/lepakinsg-sea-shores-blue-nudge-workshop/
CATEGORIES:Happenings
END:VEVENT
BEGIN:VEVENT
DTSTART;VALUE=DATE:20180725
DTEND;VALUE=DATE:20180726
DTSTAMP:20260421T125700
CREATED:20181006T135917Z
LAST-MODIFIED:20190523T180919Z
UID:3311-1532476800-1532563199@cdlsustainability.com
SUMMARY:CDL 5-Star EHS Seminar
DESCRIPTION:
URL:https://cdlsustainability.com/event/cdl-5-star-ehs-seminar/
CATEGORIES:Happenings
END:VEVENT
BEGIN:VEVENT
DTSTART;VALUE=DATE:20180727
DTEND;VALUE=DATE:20180728
DTSTAMP:20260421T125700
CREATED:20181006T140220Z
LAST-MODIFIED:20190523T180924Z
UID:3313-1532649600-1532735999@cdlsustainability.com
SUMMARY:Visit from Ramaiah Institute of Technology School of Architecture students
DESCRIPTION:
URL:https://cdlsustainability.com/event/visit-ramaiah-institute-technology-school-architecture-students/
CATEGORIES:Happenings
END:VEVENT
BEGIN:VEVENT
DTSTART;VALUE=DATE:20180728
DTEND;VALUE=DATE:20180729
DTSTAMP:20260421T125700
CREATED:20181006T140751Z
LAST-MODIFIED:20190523T180930Z
UID:3315-1532736000-1532822399@cdlsustainability.com
SUMMARY:National Youth Council Youth Conversations on Zero Waste
DESCRIPTION:
URL:https://cdlsustainability.com/event/national-youth-council-youth-conversations-zero-waste/
CATEGORIES:Happenings
END:VEVENT
BEGIN:VEVENT
DTSTART;VALUE=DATE:20180729
DTEND;VALUE=DATE:20180730
DTSTAMP:20260421T125700
CREATED:20181006T141010Z
LAST-MODIFIED:20190523T180937Z
UID:3317-1532822400-1532908799@cdlsustainability.com
SUMMARY:YSI SEA Singapore Sustainability Conference and Showcase
DESCRIPTION:
URL:https://cdlsustainability.com/event/ysi-sea-singapore-sustainability-conference-showcase/
CATEGORIES:Happenings
END:VEVENT
BEGIN:VEVENT
DTSTART;TZID=Asia/Singapore:20180731T080000
DTEND;TZID=Asia/Singapore:20180801T170000
DTSTAMP:20260421T125700
CREATED:20181006T141338Z
LAST-MODIFIED:20190523T180942Z
UID:3321-1533024000-1533142800@cdlsustainability.com
SUMMARY:BCSD Singapore - Sustainable Natural Rubber Platform
DESCRIPTION:
URL:https://cdlsustainability.com/event/bcsd-singapore-sustainable-natural-rubber-platform/
CATEGORIES:Happenings
END:VEVENT
END:VCALENDAR