BEGIN:VCALENDAR
VERSION:2.0
PRODID:-//CDL Sustainability - ECPv6.15.18//NONSGML v1.0//EN
CALSCALE:GREGORIAN
METHOD:PUBLISH
X-WR-CALNAME:CDL Sustainability
X-ORIGINAL-URL:https://cdlsustainability.com
X-WR-CALDESC:Events for CDL Sustainability
REFRESH-INTERVAL;VALUE=DURATION:PT1H
X-Robots-Tag:noindex
X-PUBLISHED-TTL:PT1H
BEGIN:VTIMEZONE
TZID:Asia/Singapore
BEGIN:STANDARD
TZOFFSETFROM:+0800
TZOFFSETTO:+0800
TZNAME:+08
DTSTART:20170101T000000
END:STANDARD
END:VTIMEZONE
BEGIN:VEVENT
DTSTART;VALUE=DATE:20180901
DTEND;VALUE=DATE:20180902
DTSTAMP:20260424T144718
CREATED:20181122T032505Z
LAST-MODIFIED:20190523T181002Z
UID:3487-1535760000-1535846399@cdlsustainability.com
SUMMARY:Climate Conversations\, Facilitator Training Workshop
DESCRIPTION:
URL:https://cdlsustainability.com/event/climate-conversations-facilitator-training-workshop/
CATEGORIES:Happenings
END:VEVENT
BEGIN:VEVENT
DTSTART;VALUE=DATE:20180901
DTEND;VALUE=DATE:20180902
DTSTAMP:20260424T144718
CREATED:20181122T032836Z
LAST-MODIFIED:20190523T181008Z
UID:3491-1535760000-1535846399@cdlsustainability.com
SUMMARY:GCNS Youth Seminar on the Arctic
DESCRIPTION:
URL:https://cdlsustainability.com/event/gcns-youth-seminar-arctic/
CATEGORIES:Happenings
END:VEVENT
BEGIN:VEVENT
DTSTART;VALUE=DATE:20180903
DTEND;VALUE=DATE:20180904
DTSTAMP:20260424T144718
CREATED:20181122T033206Z
LAST-MODIFIED:20190523T181013Z
UID:3495-1535932800-1536019199@cdlsustainability.com
SUMMARY:BCA-CDL Green Sparks 2017/2018 Finals
DESCRIPTION:
URL:https://cdlsustainability.com/event/bca-cdl-green-sparks-20172018-finals/
CATEGORIES:Happenings
END:VEVENT
BEGIN:VEVENT
DTSTART;VALUE=DATE:20180906
DTEND;VALUE=DATE:20180907
DTSTAMP:20260424T144718
CREATED:20181122T033410Z
LAST-MODIFIED:20190523T181018Z
UID:3498-1536192000-1536278399@cdlsustainability.com
SUMMARY:Nature Society Singapore\, Birding in Singapore With Your Eyes Closed
DESCRIPTION:
URL:https://cdlsustainability.com/event/nature-society-singapore-birding-singapore-eyes-closed/
CATEGORIES:Happenings
END:VEVENT
BEGIN:VEVENT
DTSTART;VALUE=DATE:20180910
DTEND;VALUE=DATE:20180911
DTSTAMP:20260424T144718
CREATED:20181122T033644Z
LAST-MODIFIED:20190523T181023Z
UID:3503-1536537600-1536623999@cdlsustainability.com
SUMMARY:International students visit SSA
DESCRIPTION:
URL:https://cdlsustainability.com/event/international-students-visit-ssa/
CATEGORIES:Happenings
END:VEVENT
BEGIN:VEVENT
DTSTART;VALUE=DATE:20180916
DTEND;VALUE=DATE:20180917
DTSTAMP:20260424T144718
CREATED:20181122T034545Z
LAST-MODIFIED:20190523T181029Z
UID:3506-1537056000-1537142399@cdlsustainability.com
SUMMARY:LepakInSG’s Sea Our Shores – Marine ID workshop
DESCRIPTION:
URL:https://cdlsustainability.com/event/lepakinsgs-sea-shores-marine-id-workshop/
CATEGORIES:Happenings
END:VEVENT
BEGIN:VEVENT
DTSTART;VALUE=DATE:20180917
DTEND;VALUE=DATE:20180922
DTSTAMP:20260424T144718
CREATED:20181122T034906Z
LAST-MODIFIED:20190523T181034Z
UID:3510-1537142400-1537574399@cdlsustainability.com
SUMMARY:WWF Regional Meeting and WWF Sustainable Finance Workshop
DESCRIPTION:
URL:https://cdlsustainability.com/event/wwf-regional-meeting-wwf-sustainable-finance-workshop/
CATEGORIES:Happenings
END:VEVENT
BEGIN:VEVENT
DTSTART;VALUE=DATE:20180922
DTEND;VALUE=DATE:20180923
DTSTAMP:20260424T144718
CREATED:20181122T035036Z
LAST-MODIFIED:20190523T181040Z
UID:3513-1537574400-1537660799@cdlsustainability.com
SUMMARY:Temasek Ecosperity\, Futures-Thinking Workshop
DESCRIPTION:
URL:https://cdlsustainability.com/event/temasek-ecosperity-futures-thinking-workshop/
CATEGORIES:Happenings
END:VEVENT
BEGIN:VEVENT
DTSTART;VALUE=DATE:20180927
DTEND;VALUE=DATE:20180928
DTSTAMP:20260424T144718
CREATED:20181122T040046Z
LAST-MODIFIED:20190523T181045Z
UID:3516-1538006400-1538092799@cdlsustainability.com
SUMMARY:Wildtype Media Group\, The Big Problem of Microplastics
DESCRIPTION:
URL:https://cdlsustainability.com/event/wildtype-media-group-big-problem-microplastics/
CATEGORIES:Happenings
END:VEVENT
END:VCALENDAR