BEGIN:VCALENDAR
VERSION:2.0
PRODID:-//CDL Sustainability - ECPv6.15.18//NONSGML v1.0//EN
CALSCALE:GREGORIAN
METHOD:PUBLISH
X-ORIGINAL-URL:https://cdlsustainability.com
X-WR-CALDESC:Events for CDL Sustainability
REFRESH-INTERVAL;VALUE=DURATION:PT1H
X-Robots-Tag:noindex
X-PUBLISHED-TTL:PT1H
BEGIN:VTIMEZONE
TZID:Asia/Singapore
BEGIN:STANDARD
TZOFFSETFROM:+0800
TZOFFSETTO:+0800
TZNAME:+08
DTSTART:20220101T000000
END:STANDARD
END:VTIMEZONE
BEGIN:VEVENT
DTSTART;VALUE=DATE:20230201
DTEND;VALUE=DATE:20230202
DTSTAMP:20260424T221659
CREATED:20230201T015633Z
LAST-MODIFIED:20230517T020113Z
UID:17143-1675209600-1675295999@cdlsustainability.com
SUMMARY:WEF New Champions SG Local Chapter Meet
DESCRIPTION:
URL:https://cdlsustainability.com/event/wef-new-champions-sg-local-chapter-meet/
CATEGORIES:Happenings
END:VEVENT
BEGIN:VEVENT
DTSTART;VALUE=DATE:20230204
DTEND;VALUE=DATE:20230205
DTSTAMP:20260424T221659
CREATED:20230204T101131Z
LAST-MODIFIED:20230210T101400Z
UID:15371-1675468800-1675555199@cdlsustainability.com
SUMMARY:Secondsguru Zero Waste Bootcamp
DESCRIPTION:
URL:https://cdlsustainability.com/event/secondsguru-zero-waste-bootcamp/
CATEGORIES:Happenings
END:VEVENT
BEGIN:VEVENT
DTSTART;VALUE=DATE:20230210
DTEND;VALUE=DATE:20230211
DTSTAMP:20260424T221659
CREATED:20230210T083355Z
LAST-MODIFIED:20230210T083355Z
UID:15368-1675987200-1676073599@cdlsustainability.com
SUMMARY:Embracing SBTi to Advance Net Zero Built Environment
DESCRIPTION:
URL:https://cdlsustainability.com/event/embracing-sbti-to-advance-net-zero-built-environment/
CATEGORIES:Happenings
END:VEVENT
BEGIN:VEVENT
DTSTART;VALUE=DATE:20230211
DTEND;VALUE=DATE:20230212
DTSTAMP:20260424T221659
CREATED:20230214T011401Z
LAST-MODIFIED:20230214T011401Z
UID:15379-1676073600-1676159999@cdlsustainability.com
SUMMARY:Singapore Youth for Climate Action Keeping Up with Climate Policy Workshop #5
DESCRIPTION:
URL:https://cdlsustainability.com/event/singapore-youth-for-climate-action-keeping-up-with-climate-policy-workshop-5/
CATEGORIES:Happenings
END:VEVENT
BEGIN:VEVENT
DTSTART;VALUE=DATE:20230214
DTEND;VALUE=DATE:20230215
DTSTAMP:20260424T221659
CREATED:20230220T023312Z
LAST-MODIFIED:20230220T025642Z
UID:15385-1676332800-1676419199@cdlsustainability.com
SUMMARY:GCNS Carbon Management Workshop
DESCRIPTION:
URL:https://cdlsustainability.com/event/gcns-carbon-management-workshop/
CATEGORIES:Happenings
END:VEVENT
BEGIN:VEVENT
DTSTART;VALUE=DATE:20230215
DTEND;VALUE=DATE:20230216
DTSTAMP:20260424T221659
CREATED:20230220T023629Z
LAST-MODIFIED:20230220T023629Z
UID:15387-1676419200-1676505599@cdlsustainability.com
SUMMARY:AVPN Platform Retreat
DESCRIPTION:
URL:https://cdlsustainability.com/event/avpn-platform-retreat/
CATEGORIES:Happenings
END:VEVENT
BEGIN:VEVENT
DTSTART;VALUE=DATE:20230221
DTEND;VALUE=DATE:20230222
DTSTAMP:20260424T221659
CREATED:20230221T011211Z
LAST-MODIFIED:20230921T032642Z
UID:17169-1676937600-1677023999@cdlsustainability.com
SUMMARY:Singapore Environment Council: Putting Sustainability into Business Practice
DESCRIPTION:
URL:https://cdlsustainability.com/event/singapore-environment-council-putting-sustainability-into-business-practice/
CATEGORIES:Happenings
END:VEVENT
BEGIN:VEVENT
DTSTART;VALUE=DATE:20230222
DTEND;VALUE=DATE:20230223
DTSTAMP:20260424T221659
CREATED:20230302T061608Z
LAST-MODIFIED:20230302T063059Z
UID:15413-1677024000-1677110399@cdlsustainability.com
SUMMARY:Singapore Youth Voices for Biodiversity Team Training
DESCRIPTION:
URL:https://cdlsustainability.com/event/singapore-youth-voices-for-biodiversity-team-training/
CATEGORIES:Happenings
END:VEVENT
BEGIN:VEVENT
DTSTART;VALUE=DATE:20230223
DTEND;VALUE=DATE:20230224
DTSTAMP:20260424T221659
CREATED:20230223T012959Z
LAST-MODIFIED:20230504T013419Z
UID:17120-1677110400-1677196799@cdlsustainability.com
SUMMARY:MSCI ESG Roundtable Luncheon: 2023 ESG & Climate Trends to Watch
DESCRIPTION:
URL:https://cdlsustainability.com/event/msci-esg-roundtable-luncheon-2023-esg-climate-trends-to-watch/
CATEGORIES:Happenings
END:VEVENT
BEGIN:VEVENT
DTSTART;VALUE=DATE:20230224
DTEND;VALUE=DATE:20230225
DTSTAMP:20260424T221659
CREATED:20230224T010203Z
LAST-MODIFIED:20230518T011132Z
UID:17162-1677196800-1677283199@cdlsustainability.com
SUMMARY:Sustainability Connect: Driving Sustainability in Green Technology – Sustainability Leadership in Real Estate Sector
DESCRIPTION:
URL:https://cdlsustainability.com/event/sustainability-connect-driving-sustainability-in-green-technology-sustainability-leadership-in-real-estate-sector/
CATEGORIES:Happenings
END:VEVENT
END:VCALENDAR