BEGIN:VCALENDAR
VERSION:2.0
PRODID:-//CDL Sustainability - ECPv6.15.18//NONSGML v1.0//EN
CALSCALE:GREGORIAN
METHOD:PUBLISH
X-ORIGINAL-URL:https://cdlsustainability.com
X-WR-CALDESC:Events for CDL Sustainability
REFRESH-INTERVAL;VALUE=DURATION:PT1H
X-Robots-Tag:noindex
X-PUBLISHED-TTL:PT1H
BEGIN:VTIMEZONE
TZID:Asia/Singapore
BEGIN:STANDARD
TZOFFSETFROM:+0800
TZOFFSETTO:+0800
TZNAME:+08
DTSTART:20220101T000000
END:STANDARD
END:VTIMEZONE
BEGIN:VEVENT
DTSTART;VALUE=DATE:20230411
DTEND;VALUE=DATE:20230412
DTSTAMP:20260420T070033
CREATED:20230412T030346Z
LAST-MODIFIED:20230412T030346Z
UID:17044-1681171200-1681257599@cdlsustainability.com
SUMMARY:University of St Gallen Asia Compact Course
DESCRIPTION:
URL:https://cdlsustainability.com/event/university-of-st-gallen-asia-compact-course/
CATEGORIES:Happenings
END:VEVENT
BEGIN:VEVENT
DTSTART;VALUE=DATE:20230421
DTEND;VALUE=DATE:20230422
DTSTAMP:20260420T070033
CREATED:20230503T043850Z
LAST-MODIFIED:20230503T043850Z
UID:17104-1682035200-1682121599@cdlsustainability.com
SUMMARY:SG Sustainability Professionals Meet Up X Earth Day
DESCRIPTION:
URL:https://cdlsustainability.com/event/sg-sustainability-professionals-meet-up-x-earth-day/
CATEGORIES:Happenings
END:VEVENT
BEGIN:VEVENT
DTSTART;VALUE=DATE:20230425
DTEND;VALUE=DATE:20230426
DTSTAMP:20260420T070033
CREATED:20230503T044304Z
LAST-MODIFIED:20230503T061220Z
UID:17107-1682380800-1682467199@cdlsustainability.com
SUMMARY:CDL-GCNS Young SDG Leaders Award Case Company Briefing
DESCRIPTION:
URL:https://cdlsustainability.com/event/cdl-gcns-young-sdg-leaders-award-case-company-briefing-2/
CATEGORIES:Happenings
END:VEVENT
BEGIN:VEVENT
DTSTART;VALUE=DATE:20230430
DTEND;VALUE=DATE:20230501
DTSTAMP:20260420T070033
CREATED:20230503T044924Z
LAST-MODIFIED:20230503T044924Z
UID:17110-1682812800-1682899199@cdlsustainability.com
SUMMARY:SYCA: A Discussion on Ecocide – Singapore
DESCRIPTION:
URL:https://cdlsustainability.com/event/syca-a-discussion-on-ecocide-singapore/
CATEGORIES:Happenings
END:VEVENT
END:VCALENDAR