BEGIN:VCALENDAR
VERSION:2.0
PRODID:-//CDL Sustainability - ECPv6.15.18//NONSGML v1.0//EN
CALSCALE:GREGORIAN
METHOD:PUBLISH
X-WR-CALNAME:CDL Sustainability
X-ORIGINAL-URL:https://cdlsustainability.com
X-WR-CALDESC:Events for CDL Sustainability
REFRESH-INTERVAL;VALUE=DURATION:PT1H
X-Robots-Tag:noindex
X-PUBLISHED-TTL:PT1H
BEGIN:VTIMEZONE
TZID:Asia/Singapore
BEGIN:STANDARD
TZOFFSETFROM:+0800
TZOFFSETTO:+0800
TZNAME:+08
DTSTART:20240101T000000
END:STANDARD
END:VTIMEZONE
BEGIN:VEVENT
DTSTART;TZID=Asia/Singapore:20250102T080000
DTEND;TZID=Asia/Singapore:20250102T170000
DTSTAMP:20260423T162453
CREATED:20241206T031130Z
LAST-MODIFIED:20250102T031513Z
UID:20692-1735804800-1735837200@cdlsustainability.com
SUMMARY:GCNS Foundations in Corporate Sustainability Course
DESCRIPTION:
URL:https://cdlsustainability.com/event/gcns-foundations-in-corporate-sustainability-course-5/
CATEGORIES:Happenings
END:VEVENT
BEGIN:VEVENT
DTSTART;TZID=Asia/Singapore:20250103T080000
DTEND;TZID=Asia/Singapore:20250103T170000
DTSTAMP:20260423T162453
CREATED:20241218T074803Z
LAST-MODIFIED:20250103T075114Z
UID:20697-1735891200-1735923600@cdlsustainability.com
SUMMARY:Singapore Environment Council: Putting Sustainability into Business Practice
DESCRIPTION:
URL:https://cdlsustainability.com/event/singapore-environment-council-putting-sustainability-into-business-practice-6/
CATEGORIES:Happenings
END:VEVENT
BEGIN:VEVENT
DTSTART;TZID=Asia/Singapore:20250103T080000
DTEND;TZID=Asia/Singapore:20250103T170000
DTSTAMP:20260423T162453
CREATED:20241219T075141Z
LAST-MODIFIED:20250103T075425Z
UID:20700-1735891200-1735923600@cdlsustainability.com
SUMMARY:PM.Haze Workshop Simulation Game: Understanding Haze Governance and ASEAN Negotiation Processes
DESCRIPTION:
URL:https://cdlsustainability.com/event/pm-haze-workshop-simulation-game-understanding-haze-governance-and-asean-negotiation-processes/
CATEGORIES:Happenings
END:VEVENT
BEGIN:VEVENT
DTSTART;TZID=Asia/Singapore:20250120T080000
DTEND;TZID=Asia/Singapore:20250120T170000
DTSTAMP:20260423T162453
CREATED:20250105T013113Z
LAST-MODIFIED:20250120T014009Z
UID:20734-1737360000-1737392400@cdlsustainability.com
SUMMARY:PAP Mental Health Group – Community Workgroup Discussion
DESCRIPTION:
URL:https://cdlsustainability.com/event/pap-mental-health-group-community-workgroup-discussion/
CATEGORIES:Happenings
END:VEVENT
BEGIN:VEVENT
DTSTART;TZID=Asia/Singapore:20250120T080000
DTEND;TZID=Asia/Singapore:20250120T170000
DTSTAMP:20260423T162453
CREATED:20250105T014242Z
LAST-MODIFIED:20250120T014554Z
UID:20738-1737360000-1737392400@cdlsustainability.com
SUMMARY:Youth Expedition Project Leaders’ Training Course
DESCRIPTION:
URL:https://cdlsustainability.com/event/youth-expedition-project-leaders-training-course-14/
CATEGORIES:Happenings
END:VEVENT
BEGIN:VEVENT
DTSTART;TZID=Asia/Singapore:20250120T080000
DTEND;TZID=Asia/Singapore:20250120T170000
DTSTAMP:20260423T162453
CREATED:20250114T014620Z
LAST-MODIFIED:20250120T015247Z
UID:20741-1737360000-1737392400@cdlsustainability.com
SUMMARY:AlterCOP 29 Wrap-up – The Road to COP 30: So What Now?
DESCRIPTION:
URL:https://cdlsustainability.com/event/altercop-29-wrap-up-the-road-to-cop-30-so-what-now/
CATEGORIES:Happenings
END:VEVENT
BEGIN:VEVENT
DTSTART;TZID=Asia/Singapore:20250124T080000
DTEND;TZID=Asia/Singapore:20250124T170000
DTSTAMP:20260423T162453
CREATED:20250112T022841Z
LAST-MODIFIED:20250124T023246Z
UID:20753-1737705600-1737738000@cdlsustainability.com
SUMMARY:The Uplifters Appreciation Day
DESCRIPTION:
URL:https://cdlsustainability.com/event/the-uplifters-appreciation-day/
CATEGORIES:Happenings
END:VEVENT
BEGIN:VEVENT
DTSTART;TZID=Asia/Singapore:20250124T080000
DTEND;TZID=Asia/Singapore:20250124T170000
DTSTAMP:20260423T162453
CREATED:20250120T023328Z
LAST-MODIFIED:20250124T023611Z
UID:20756-1737705600-1737738000@cdlsustainability.com
SUMMARY:Sunollo: Advancing Sustainable Architecture
DESCRIPTION:
URL:https://cdlsustainability.com/event/sunollo-advancing-sustainable-architecture/
CATEGORIES:Happenings
END:VEVENT
BEGIN:VEVENT
DTSTART;TZID=Asia/Singapore:20250124T080000
DTEND;TZID=Asia/Singapore:20250124T170000
DTSTAMP:20260423T162453
CREATED:20250121T020319Z
LAST-MODIFIED:20250124T022124Z
UID:20750-1737705600-1737738000@cdlsustainability.com
SUMMARY:People’s Action Party Climate Action Group Launch
DESCRIPTION:
URL:https://cdlsustainability.com/event/peoples-action-party-climate-action-group-launch/
CATEGORIES:Happenings
END:VEVENT
END:VCALENDAR